Workbook

Sheet 11501
A1: 高雄市前金區各里人口異動概況
K2: 民國115年1月份
A3: 里別 | B3: 鄰數 | C3: 戶數 | D3: 人 | E3: 口 | F3: 數 | G3: 遷入數 | H3: 遷出數 | I3: 住變入 | J3: 住變出 | K3: 出生數 | L3: 死亡數 | M3: 結婚對數(含相同性別) | N3: 離婚/ 終止結婚 對數
D4: 男 | E4: 女 | F4: 合 計
A5: 三川 | B5: 9 | C5: 607 | D5: 488 | E5: 540 | F5: =SUM(D5:E5) -> 1028 | G5: 8 | H5: 7 | I5: 0 | J5: 0 | K5: 0 | L5: 3 | M5: 2 | N5: 0
A6: 草江 | B6: 9 | C6: 924 | D6: 714 | E6: 872 | F6: =SUM(D6:E6) -> 1586 | G6: 11 | H6: 2 | I6: 0 | J6: 2 | K6: 0 | L6: 1 | M6: 0 | N6: 2
A7: 長城 | B7: 17 | C7: 723 | D7: 672 | E7: 718 | F7: =SUM(D7:E7) -> 1390 | G7: 5 | H7: 6 | I7: 6 | J7: 5 | K7: 0 | L7: 3 | M7: 0 | N7: 1
A8: 北金 | B8: 8 | C8: 441 | D8: 401 | E8: 444 | F8: =SUM(D8:E8) -> 845 | G8: 0 | H8: 6 | I8: 0 | J8: 5 | K8: 0 | L8: 0 | M8: 0 | N8: 0
A9: 東金 | B9: 12 | C9: 565 | D9: 472 | E9: 551 | F9: =SUM(D9:E9) -> 1023 | G9: 4 | H9: 3 | I9: 4 | J9: 0 | K9: 0 | L9: 2 | M9: 1 | N9: 0
A10: 新生 | B10: 28 | C10: 2085 | D10: 1831 | E10: 2139 | F10: =SUM(D10:E10) -> 3970 | G10: 20 | H10: 17 | I10: 0 | J10: 0 | K10: 1 | L10: 2 | M10: 0 | N10: 2
A11: 後金 | B11: 10 | C11: 294 | D11: 323 | E11: 292 | F11: =SUM(D11:E11) -> 615 | G11: 3 | H11: 3 | I11: 0 | J11: 0 | K11: 0 | L11: 0 | M11: 0 | N11: 0
A12: 長興 | B12: 11 | C12: 819 | D12: 627 | E12: 742 | F12: =SUM(D12:E12) -> 1369 | G12: 5 | H12: 8 | I12: 0 | J12: 0 | K12: 0 | L12: 0 | M12: 0 | N12: 0
A13: 青山 | B13: 13 | C13: 1312 | D13: 992 | E13: 1224 | F13: =SUM(D13:E13) -> 2216 | G13: 11 | H13: 16 | I13: 0 | J13: 0 | K13: 1 | L13: 3 | M13: 2 | N13: 1
A14: 民生 | B14: 9 | C14: 540 | D14: 401 | E14: 526 | F14: =SUM(D14:E14) -> 927 | G14: 5 | H14: 4 | I14: 1 | J14: 2 | K14: 0 | L14: 0 | M14: 0 | N14: 0
A15: 復元 | B15: 10 | C15: 578 | D15: 520 | E15: 598 | F15: =SUM(D15:E15) -> 1118 | G15: 2 | H15: 7 | I15: 0 | J15: 0 | K15: 1 | L15: 2 | M15: 0 | N15: 0
A16: 林投 | B16: 13 | C16: 643 | D16: 627 | E16: 517 | F16: =SUM(D16:E16) -> 1144 | G16: 5 | H16: 6 | I16: 1 | J16: 0 | K16: 1 | L16: 1 | M16: 0 | N16: 0
... A24: 文東 | B24: 16 | C24: 598 | D24: 533 | E24: 625 | F24: =SUM(D24:E24) -> 1158 | G24: 1 | H24: 2 | I24: 1 | J24: 0 | K24: 0 | L24: 2 | M24: 0 | N24: 1
A25: 總計 | B25: =SUM(B5:B24) -> 258 | C25: =SUM(C5:C24) -> 15286 | D25: =SUM(D5:D24) -> 12832 | E25: =SUM(E5:E24) -> 14795 | F25: =SUM(F5:F24) -> 27627 | G25: =SUM(G5:G24) -> 122 | H25: =SUM(H5:H24) -> 147 | I25: =SUM(I5:I24) -> 22 | ... N25: =SUM(N5:N24) -> 8
A26: 全區總戶數： | C26: =C25 -> 15286 | D26: 戶 | E26: 全區總人口數： | G26: =F25 -> 27627 | H26: 人 | K26: 共20里
A27: 本區最大里： | C27: =INDIRECT(H27,TRUE) -> 新生 | D27: 里 | E27: =MAX(C5:C24) -> 2085 | F27: =MAX(F5:F24) -> 3970 | H27: =ADDRESS(MATCH(MAX(F5:F24),F5:F24,0)+4,1) -> $A$10
A28: 本區最小里： | C28: =INDIRECT(H28,TRUE) -> 後金 | D28: 里 | E28: =MIN(C5:C24) -> 294 | F28: =MIN(F5:F24) -> 615 | H28: =ADDRESS(MATCH(MIN(F5:F24),F5:F24,0)+4,1) -> $A$11
A29: 原住民人數： | C29: =SUM(G29:G31) -> 174 | D29: 人 | E29: 平地原住民： | G29: 90 | H29: 人
E30: 山地原住民： | G30: 84 | H30: 人
E31: 平埔原住民： | G31: 0 | H31: 人
A32: 出生人數： | C32: =K25 -> 6 | D32: 人 | E32: （生母國籍：大陸港澳地區0人；外國籍0人）
E33: （生父國籍：大陸港澳地區0人；外國籍1人）
A34: 死亡人數： | C34: =L25 -> 24 | D34: 人
A35: 結婚對數： | C35: =M25 -> 7 | D35: 對 | E35: （配偶國籍：大陸港澳地區1人；外國籍1人）
A36: 離婚/終止結婚對數： | C36: =N25 -> 8 | D36: 對 | E36: （配偶國籍：大陸港澳地區1人；外國籍0人）
A37: 本月遷入本區人數： | C37: =G25 -> 122 | D37: 人 | E37: 遷出本區人數： | G37: =H25 -> 147 | H37: 人
A38: 本月戶數減少 | C38: 6 | D38: 男減少 | E38: 29 | F38: 女減少 | G38: 14 | I38: 總人口數減少 | K38: 43

Sheet 11502
A1: 高雄市前金區各里人口異動概況
K2: 民國115年2月份
A3: 里別 | B3: 鄰數 | C3: 戶數 | D3: 人 | E3: 口 | F3: 數 | G3: 遷入數 | H3: 遷出數 | I3: 住變入 | J3: 住變出 | K3: 出生數 | L3: 死亡數 | M3: 結婚對數(含相同性別) | N3: 離婚/ 終止結婚 對數
D4: 男 | E4: 女 | F4: 合 計
A5: 三川 | B5: 9 | C5: 606 | D5: 491 | E5: 539 | F5: =SUM(D5:E5) -> 1030 | G5: 6 | H5: 3 | I5: 1 | J5: 2 | K5: 1 | L5: 1 | M5: 0 | N5: 0
A6: 草江 | B6: 9 | C6: 928 | D6: 718 | E6: 874 | F6: =SUM(D6:E6) -> 1592 | G6: 12 | H6: 4 | I6: 0 | J6: 2 | K6: 1 | L6: 1 | M6: 1 | N6: 0
A7: 長城 | B7: 17 | C7: 726 | D7: 673 | E7: 718 | F7: =SUM(D7:E7) -> 1391 | G7: 7 | H7: 5 | I7: 3 | J7: 3 | K7: 0 | L7: 1 | M7: 0 | N7: 1
A8: 北金 | B8: 8 | C8: 442 | D8: 399 | E8: 444 | F8: =SUM(D8:E8) -> 843 | G8: 3 | H8: 4 | I8: 1 | J8: 1 | K8: 0 | L8: 1 | M8: 0 | N8: 0
A9: 東金 | B9: 12 | C9: 568 | D9: 475 | E9: 551 | F9: =SUM(D9:E9) -> 1026 | G9: 7 | H9: 5 | I9: 1 | J9: 0 | K9: 0 | L9: 0 | M9: 0 | N9: 0
A10: 新生 | B10: 28 | C10: 2087 | D10: 1833 | E10: 2140 | F10: =SUM(D10:E10) -> 3973 | G10: 16 | H10: 15 | I10: 3 | J10: 0 | K10: 0 | L10: 1 | M10: 3 | N10: 0
A11: 後金 | B11: 10 | C11: 293 | D11: 324 | E11: 291 | F11: =SUM(D11:E11) -> 615 | G11: 4 | H11: 3 | I11: 0 | J11: 0 | K11: 0 | L11: 1 | M11: 0 | N11: 0
A12: 長興 | B12: 11 | C12: 818 | D12: 626 | E12: 741 | F12: =SUM(D12:E12) -> 1367 | G12: 2 | H12: 4 | I12: 0 | J12: 0 | K12: 0 | L12: 0 | M12: 1 | N12: 0
A13: 青山 | B13: 13 | C13: 1307 | D13: 982 | E13: 1220 | F13: =SUM(D13:E13) -> 2202 | G13: 5 | H13: 18 | I13: 0 | J13: 2 | K13: 2 | L13: 1 | M13: 2 | N13: 0
A14: 民生 | B14: 9 | C14: 544 | D14: 400 | E14: 528 | F14: =SUM(D14:E14) -> 928 | G14: 6 | H14: 5 | I14: 2 | J14: 2 | K14: 0 | L14: 0 | M14: 0 | N14: 0
A15: 復元 | B15: 10 | C15: 578 | D15: 522 | E15: 595 | F15: =SUM(D15:E15) -> 1117 | G15: 2 | H15: 2 | I15: 1 | J15: 2 | K15: 0 | L15: 0 | M15: 0 | N15: 0
A16: 林投 | B16: 13 | C16: 643 | D16: 625 | E16: 519 | F16: =SUM(D16:E16) -> 1144 | G16: 3 | H16: 1 | I16: 2 | J16: 2 | K16: 0 | L16: 2 | M16: 0 | N16: 0
... A24: 文東 | B24: 16 | C24: 599 | D24: 533 | E24: 628 | F24: =SUM(D24:E24) -> 1161 | G24: 5 | H24: 2 | I24: 0 | J24: 0 | K24: 0 | L24: 0 | M24: 0 | N24: 0
A25: 總計 | B25: =SUM(B5:B24) -> 258 | C25: =SUM(C5:C24) -> 15294 | D25: =SUM(D5:D24) -> 12843 | E25: =SUM(E5:E24) -> 14787 | F25: =SUM(F5:F24) -> 27630 | G25: =SUM(G5:G24) -> 131 | H25: =SUM(H5:H24) -> 115 | I25: =SUM(I5:I24) -> 21 | ... N25: =SUM(N5:N24) -> 5
A26: 全區總戶數： | C26: =C25 -> 15294 | D26: 戶 | E26: 全區總人口數： | G26: =F25 -> 27630 | H26: 人 | K26: 共20里
A27: 本區最大里： | C27: =INDIRECT(H27,TRUE) -> 新生 | D27: 里 | E27: =MAX(C5:C24) -> 2087 | F27: =MAX(F5:F24) -> 3973 | H27: =ADDRESS(MATCH(MAX(F5:F24),F5:F24,0)+4,1) -> $A$10
A28: 本區最小里： | C28: =INDIRECT(H28,TRUE) -> 後金 | D28: 里 | E28: =MIN(C5:C24) -> 293 | F28: =MIN(F5:F24) -> 615 | H28: =ADDRESS(MATCH(MIN(F5:F24),F5:F24,0)+4,1) -> $A$11
A29: 原住民人數： | C29: =SUM(G29:G31) -> 178 | D29: 人 | E29: 平地原住民： | G29: 93 | H29: 人
E30: 山地原住民： | G30: 85 | H30: 人
E31: 平埔原住民： | G31: 0 | H31: 人
A32: 出生人數： | C32: =K25 -> 4 | D32: 人 | E32: （生母國籍：大陸港澳地區0人；外國籍1人）
E33: （生父國籍：大陸港澳地區0人；外國籍0人）
A34: 死亡人數： | C34: =L25 -> 17 | D34: 人
A35: 結婚對數： | C35: =M25 -> 9 | D35: 對 | E35: （配偶國籍：大陸港澳地區1人；外國籍1人）
A36: 離婚/終止結婚對數： | C36: =N25 -> 5 | D36: 對 | E36: （配偶國籍：大陸港澳地區0人；外國籍1人）
A37: 本月遷入本區人數： | C37: =G25 -> 131 | D37: 人 | E37: 遷出本區人數： | G37: =H25 -> 115 | H37: 人
A38: =IF(C38>0," 本月戶數增加","本月戶數減少") -> 本月戶數增加 | C38: =C25-'11501'!C25 -> 8 | D38: =IF(E38>0,"男增加","男減少") -> 男增加 | E38: =D25-'11501'!D25 -> 11 | F38: =IF(G38>0,"女增加","女減少") -> 女減少 | G38: =E25-'11501'!E25 -> -8 | I38: =IF(K38>0,"總人口數增加","總人口數減少") -> 總人口數增加 | K38: =F25-'11501'!F25 -> 3

Sheet 11503
A1: 高雄市前金區各里人口異動概況
K2: 民國115年3月份
A3: 里別 | B3: 鄰數 | C3: 戶數 | D3: 人 | E3: 口 | F3: 數 | G3: 遷入數 | H3: 遷出數 | I3: 住變入 | J3: 住變出 | K3: 出生數 | L3: 死亡數 | M3: 結婚對數(含相同性別) | N3: 離婚/ 終止結婚 對數
D4: 男 | E4: 女 | F4: 合 計
A5: 三川 | B5: 9 | C5: 606 | D5: 492 | E5: 540 | F5: =SUM(D5:E5) -> 1032 | G5: 12 | H5: 7 | I5: 0 | J5: 2 | K5: 0 | L5: 1 | M5: 0 | N5: 0
A6: 草江 | B6: 9 | C6: 929 | D6: 724 | E6: 872 | F6: =SUM(D6:E6) -> 1596 | G6: 17 | H6: 15 | I6: 6 | J6: 5 | K6: 1 | L6: 0 | M6: 0 | N6: 0
A7: 長城 | B7: 17 | C7: 728 | D7: 674 | E7: 717 | F7: =SUM(D7:E7) -> 1391 | G7: 11 | H7: 6 | I7: 1 | J7: 5 | K7: 0 | L7: 1 | M7: 0 | N7: 1
A8: 北金 | B8: 8 | C8: 442 | D8: 398 | E8: 441 | F8: =SUM(D8:E8) -> 839 | G8: 6 | H8: 9 | I8: 4 | J8: 4 | K8: 0 | L8: 1 | M8: 1 | N8: 0
A9: 東金 | B9: 12 | C9: 567 | D9: 479 | E9: 553 | F9: =SUM(D9:E9) -> 1032 | G9: 15 | H9: 7 | I9: 2 | J9: 2 | K9: 0 | L9: 2 | M9: 1 | N9: 1
A10: 新生 | B10: 28 | C10: 2095 | D10: 1840 | E10: 2139 | F10: =SUM(D10:E10) -> 3979 | G10: 36 | H10: 29 | I10: 3 | J10: 2 | K10: 2 | L10: 4 | M10: 1 | N10: 0
A11: 後金 | B11: 10 | C11: 293 | D11: 325 | E11: 287 | F11: =SUM(D11:E11) -> 612 | G11: 5 | H11: 7 | I11: 2 | J11: 3 | K11: 0 | L11: 0 | M11: 1 | N11: 0
A12: 長興 | B12: 11 | C12: 813 | D12: 620 | E12: 736 | F12: =SUM(D12:E12) -> 1356 | G12: 14 | H12: 19 | I12: 1 | J12: 5 | K12: 0 | L12: 2 | M12: 2 | N12: 0
A13: 青山 | B13: 13 | C13: 1311 | D13: 982 | E13: 1222 | F13: =SUM(D13:E13) -> 2204 | G13: 20 | H13: 12 | I13: 2 | J13: 7 | K13: 0 | L13: 1 | M13: 1 | N13: 2
A14: 民生 | B14: 9 | C14: 544 | D14: 398 | E14: 530 | F14: =SUM(D14:E14) -> 928 | G14: 7 | H14: 6 | I14: 1 | J14: 1 | K14: 0 | L14: 1 | M14: 0 | N14: 0
A15: 復元 | B15: 10 | C15: 579 | D15: 521 | E15: 590 | F15: =SUM(D15:E15) -> 1111 | G15: 4 | H15: 10 | I15: 1 | J15: 1 | K15: 0 | L15: 0 | M15: 1 | N15: 0
A16: 林投 | B16: 13 | C16: 648 | D16: 628 | E16: 524 | F16: =SUM(D16:E16) -> 1152 | G16: 1 | H16: 6 | I16: 15 | J16: 0 | K16: 0 | L16: 2 | M16: 0 | N16: 0
... A24: 文東 | B24: 16 | C24: 599 | D24: 531 | E24: 625 | F24: =SUM(D24:E24) -> 1156 | G24: 5 | H24: 10 | I24: 3 | J24: 3 | K24: 0 | L24: 0 | M24: 1 | N24: 1
A25: 總計 | B25: =SUM(B5:B24) -> 258 | C25: =SUM(C5:C24) -> 15335 | D25: =SUM(D5:D24) -> 12852 | E25: =SUM(E5:E24) -> 14785 | F25: =SUM(F5:F24) -> 27637 | G25: =SUM(G5:G24) -> 231 | H25: =SUM(H5:H24) -> 210 | I25: =SUM(I5:I24) -> 56 | ... N25: =SUM(N5:N24) -> 6
A26: 全區總戶數： | C26: =C25 -> 15335 | D26: 戶 | E26: 全區總人口數： | G26: =F25 -> 27637 | H26: 人 | K26: 共20里
A27: 本區最大里： | C27: =INDIRECT(H27,TRUE) -> 新生 | D27: 里 | E27: =MAX(C5:C24) -> 2095 | F27: =MAX(F5:F24) -> 3979 | H27: =ADDRESS(MATCH(MAX(F5:F24),F5:F24,0)+4,1) -> $A$10
A28: 本區最小里： | C28: =INDIRECT(H28,TRUE) -> 後金 | D28: 里 | E28: =MIN(C5:C24) -> 293 | F28: =MIN(F5:F24) -> 612 | H28: =ADDRESS(MATCH(MIN(F5:F24),F5:F24,0)+4,1) -> $A$11
A29: 原住民人數： | C29: 180 | D29: 人 | E29: 平地原住民： | G29: 95 | H29: 人
E30: 山地原住民： | G30: 85 | H30: 人
E31: 平埔原住民： | G31: 0 | H31: 人
A32: 出生人數： | C32: =K25 -> 6 | D32: 人 | E32: （生母國籍：大陸港澳地區0人；外國籍0人）
E33: （生父國籍：大陸港澳地區0人；外國籍0人）
A34: 死亡人數： | C34: =L25 -> 20 | D34: 人
A35: 結婚對數： | C35: =M25 -> 10 | D35: 對 | E35: （配偶國籍：大陸港澳地區0人；外國籍0人）
A36: 離婚/終止結婚對數： | C36: =N25 -> 6 | D36: 對 | E36: （配偶國籍：大陸港澳地區1人；外國籍0人）
A37: 本月遷入本區人數： | C37: =G25 -> 231 | D37: 人 | E37: 遷出本區人數： | G37: =H25 -> 210 | H37: 人
A38: =IF(C38>0," 本月戶數增加","本月戶數減少") -> 本月戶數增加 | C38: =C25-'11506'!C25 -> 49 | D38: =IF(E38>0,"男增加","男減少") -> 男增加 | E38: =D25-'11502'!D25 -> 9 | F38: =IF(G38>0,"女增加","女減少") -> 女減少 | G38: =E25-'11502'!E25 -> -2 | I38: =IF(K38>0,"總人口數增加","總人口數減少") -> 總人口數增加 | K38: =F25-'11502'!F25 -> 7

Sheet 11504
A1: 高雄市前金區各里人口異動概況
K2: 民國115年4月份
A3: 里別 | B3: 鄰數 | C3: 戶數 | D3: 人 | E3: 口 | F3: 數 | G3: 遷入數 | H3: 遷出數 | I3: 住變入 | J3: 住變出 | K3: 出生數 | L3: 死亡數 | M3: 結婚對數(含相同性別) | N3: 離婚/ 終止結婚 對數
D4: 男 | E4: 女 | F4: 合 計
A5: 三川 | B5: 9 | C5: 605 | D5: 491 | E5: 542 | F5: =SUM(D5:E5) -> 1033 | G5: 8 | H5: 4 | I5: 0 | J5: 3 | K5: 1 | L5: 1 | M5: 2 | N5: 1
A6: 草江 | B6: 9 | C6: 931 | D6: 722 | E6: 874 | F6: =SUM(D6:E6) -> 1596 | G6: 9 | H6: 7 | I6: 1 | J6: 4 | K6: 1 | L6: 0 | M6: 1 | N6: 0
A7: 長城 | B7: 17 | C7: 729 | D7: 677 | E7: 723 | F7: =SUM(D7:E7) -> 1400 | G7: 8 | H7: 3 | I7: 3 | J7: 1 | K7: 3 | L7: 1 | M7: 0 | N7: 0
A8: 北金 | B8: 8 | C8: 442 | D8: 398 | E8: 441 | F8: =SUM(D8:E8) -> 839 | G8: 0 | H8: 0 | I8: 0 | J8: 0 | K8: 0 | L8: 0 | M8: 0 | N8: 0
A9: 東金 | B9: 12 | C9: 565 | D9: 477 | E9: 553 | F9: =SUM(D9:E9) -> 1030 | G9: 2 | H9: 3 | I9: 0 | J9: 1 | K9: 0 | L9: 0 | M9: 0 | N9: 0
A10: 新生 | B10: 28 | C10: 2094 | D10: 1836 | E10: 2149 | F10: =SUM(D10:E10) -> 3985 | G10: 27 | H10: 21 | I10: 3 | J10: 3 | K10: 2 | L10: 2 | M10: 1 | N10: 0
A11: 後金 | B11: 10 | C11: 292 | D11: 324 | E11: 285 | F11: =SUM(D11:E11) -> 609 | G11: 1 | H11: 2 | I11: 0 | J11: 0 | K11: 0 | L11: 2 | M11: 0 | N11: 0
A12: 長興 | B12: 11 | C12: 812 | D12: 622 | E12: 730 | F12: =SUM(D12:E12) -> 1352 | G12: 5 | H12: 12 | I12: 4 | J12: 1 | K12: 1 | L12: 1 | M12: 0 | N12: 0
A13: 青山 | B13: 13 | C13: 1316 | D13: 986 | E13: 1224 | F13: =SUM(D13:E13) -> 2210 | G13: 18 | H13: 11 | I13: 3 | J13: 3 | K13: 2 | L13: 3 | M13: 1 | N13: 0
A14: 民生 | B14: 9 | C14: 543 | D14: 400 | E14: 530 | F14: =SUM(D14:E14) -> 930 | G14: 13 | H14: 10 | I14: 0 | J14: 0 | K14: 1 | L14: 2 | M14: 0 | N14: 0
A15: 復元 | B15: 10 | C15: 577 | D15: 523 | E15: 587 | F15: =SUM(D15:E15) -> 1110 | G15: 2 | H15: 3 | I15: 0 | J15: 0 | K15: 1 | L15: 1 | M15: 0 | N15: 0
A16: 林投 | B16: 13 | C16: 640 | D16: 625 | E16: 514 | F16: =SUM(D16:E16) -> 1139 | G16: 1 | H16: 9 | I16: 2 | J16: 0 | K16: 0 | L16: 7 | M16: 0 | N16: 0
... A24: 文東 | B24: 16 | C24: 597 | D24: 528 | E24: 623 | F24: =SUM(D24:E24) -> 1151 | G24: 0 | H24: 4 | I24: 1 | J24: 1 | K24: 0 | L24: 1 | M24: 0 | N24: 0
A25: 總計 | B25: =SUM(B5:B24) -> 258 | C25: =SUM(C5:C24) -> 15302 | D25: =SUM(D5:D24) -> 12846 | E25: =SUM(E5:E24) -> 14767 | F25: =SUM(F5:F24) -> 27613 | G25: =SUM(G5:G24) -> 138 | H25: =SUM(H5:H24) -> 142 | I25: =SUM(I5:I24) -> 30 | ... N25: =SUM(N5:N24) -> 4
A26: 全區總戶數： | C26: =C25 -> 15302 | D26: 戶 | E26: 全區總人口數： | G26: =F25 -> 27613 | H26: 人 | K26: 共20里
A27: 本區最大里： | C27: =INDIRECT(H27,TRUE) -> 新生 | D27: 里 | E27: =MAX(C5:C24) -> 2094 | F27: =MAX(F5:F24) -> 3985 | H27: =ADDRESS(MATCH(MAX(F5:F24),F5:F24,0)+4,1) -> $A$10
A28: 本區最小里： | C28: =INDIRECT(H28,TRUE) -> 後金 | D28: 里 | E28: =MIN(C5:C24) -> 292 | F28: =MIN(F5:F24) -> 609 | H28: =ADDRESS(MATCH(MIN(F5:F24),F5:F24,0)+4,1) -> $A$11
A29: 原住民人數： | C29: =SUM(G29:G31) -> 181 | D29: 人 | E29: 平地原住民： | G29: 96 | H29: 人
E30: 山地原住民： | G30: 85 | H30: 人
E31: 平埔原住民： | G31: 0 | H31: 人
A32: 出生人數： | C32: =K25 -> 13 | D32: 人 | E32: （生母國籍：大陸港澳地區0人；外國籍0人）
E33: （生父國籍：大陸港澳地區0人；外國籍3人）
A34: 死亡人數： | C34: =L25 -> 33 | D34: 人
A35: 結婚對數： | C35: =M25 -> 7 | D35: 對 | E35: （配偶國籍：大陸港澳地區1人；外國籍1人）
A36: 離婚/終止結婚對數： | C36: =N25 -> 4 | D36: 對 | E36: （配偶國籍：大陸港澳地區0人；外國籍0人）
A37: 本月遷入本區人數： | C37: =G25 -> 138 | D37: 人 | E37: 遷出本區人數： | G37: =H25 -> 142 | H37: 人
A38: =IF(C38>0," 本月戶數增加","本月戶數減少") -> 本月戶數減少 | C38: =C25-'11503'!C25 -> -33 | D38: =IF(E38>0,"男增加","男減少") -> 男減少 | E38: =D25-'11503'!D25 -> -6 | F38: =IF(G38>0,"女增加","女減少") -> 女減少 | G38: =E25-'11503'!E25 -> -18 | I38: =IF(K38>0,"總人口數增加","總人口數減少") -> 總人口數減少 | K38: =F25-'11503'!F25 -> -24

Sheet 11505
A1: 高雄市前金區各里人口異動概況
K2: 民國115年5月份
A3: 里別 | B3: 鄰數 | C3: 戶數 | D3: 人 | E3: 口 | F3: 數 | G3: 遷入數 | H3: 遷出數 | I3: 住變入 | J3: 住變出 | K3: 出生數 | L3: 死亡數 | M3: 結婚對數(含相同性別) | N3: 離婚/ 終止結婚 對數
D4: 男 | E4: 女 | F4: 合 計
A5: 三川 | B5: 9 | C5: 607 | D5: 491 | E5: 545 | F5: =SUM(D5:E5) -> 1036 | G5: 4 | H5: 2 | I5: 1 | J5: 1 | K5: 1 | L5: 0 | M5: 1 | N5: 1
A6: 草江 | B6: 9 | C6: 933 | D6: 723 | E6: 873 | F6: =SUM(D6:E6) -> 1596 | G6: 4 | H6: 3 | I6: 2 | J6: 1 | K6: 0 | L6: 2 | M6: 1 | N6: 0
A7: 長城 | B7: 17 | C7: 728 | D7: 680 | E7: 724 | F7: =SUM(D7:E7) -> 1404 | G7: 10 | H7: 4 | I7: 1 | J7: 1 | K7: 0 | L7: 2 | M7: 0 | N7: 1
A8: 北金 | B8: 8 | C8: 443 | D8: 394 | E8: 437 | F8: =SUM(D8:E8) -> 831 | G8: 1 | H8: 9 | I8: 2 | J8: 2 | K8: 0 | L8: 0 | M8: 0 | N8: 0
A9: 東金 | B9: 12 | C9: 564 | D9: 475 | E9: 549 | F9: =SUM(D9:E9) -> 1024 | G9: 2 | H9: 8 | I9: 0 | J9: 0 | K9: 1 | L9: 1 | M9: 1 | N9: 0
A10: 新生 | B10: 28 | C10: 2099 | D10: 1838 | E10: 2157 | F10: =SUM(D10:E10) -> 3995 | G10: 28 | H10: 16 | I10: 3 | J10: 4 | K10: 2 | L10: 3 | M10: 0 | N10: 0
A11: 後金 | B11: 10 | C11: 292 | D11: 324 | E11: 283 | F11: =SUM(D11:E11) -> 607 | G11: 1 | H11: 3 | I11: 0 | J11: 0 | K11: 0 | L11: 0 | M11: 0 | N11: 0
A12: 長興 | B12: 11 | C12: 811 | D12: 627 | E12: 727 | F12: =SUM(D12:E12) -> 1354 | G12: 8 | H12: 6 | I12: 1 | J12: 0 | K12: 0 | L12: 1 | M12: 0 | N12: 0
A13: 青山 | B13: 13 | C13: 1321 | D13: 989 | E13: 1228 | F13: =SUM(D13:E13) -> 2217 | G13: 12 | H13: 7 | I13: 2 | J13: 1 | K13: 2 | L13: 1 | M13: 2 | N13: 0
A14: 民生 | B14: 9 | C14: 544 | D14: 400 | E14: 530 | F14: =SUM(D14:E14) -> 930 | G14: 3 | H14: 4 | I14: 3 | J14: 1 | K14: 0 | L14: 1 | M14: 2 | N14: 0
A15: 復元 | B15: 10 | C15: 577 | D15: 522 | E15: 586 | F15: =SUM(D15:E15) -> 1108 | G15: 6 | H15: 8 | I15: 0 | J15: 1 | K15: 1 | L15: 0 | M15: 2 | N15: 0
A16: 林投 | B16: 13 | C16: 637 | D16: 623 | E16: 503 | F16: =SUM(D16:E16) -> 1126 | G16: 4 | H16: 18 | I16: 2 | J16: 0 | K16: 0 | L16: 1 | M16: 1 | N16: 0
... A24: 文東 | B24: 16 | C24: 596 | D24: 527 | E24: 621 | F24: =SUM(D24:E24) -> 1148 | G24: 4 | H24: 7 | I24: 1 | J24: 1 | K24: 0 | L24: 0 | M24: 0 | N24: 0
A25: 總計 | B25: =SUM(B5:B24) -> 258 | C25: =SUM(C5:C24) -> 15301 | D25: =SUM(D5:D24) -> 12834 | E25: =SUM(E5:E24) -> 14748 | F25: =SUM(F5:F24) -> 27582 | G25: =SUM(G5:G24) -> 139 | H25: =SUM(H5:H24) -> 157 | I25: =SUM(I5:I24) -> 21 | ... N25: =SUM(N5:N24) -> 4
A26: 全區總戶數： | C26: =C25 -> 15301 | D26: 戶 | E26: 全區總人口數： | G26: =F25 -> 27582 | H26: 人 | K26: 共20里
A27: 本區最大里： | C27: =INDIRECT(H27,TRUE) -> 新生 | D27: 里 | E27: =MAX(C5:C24) -> 2099 | F27: =MAX(F5:F24) -> 3995 | H27: =ADDRESS(MATCH(MAX(F5:F24),F5:F24,0)+4,1) -> $A$10
A28: 本區最小里： | C28: =INDIRECT(H28,TRUE) -> 後金 | D28: 里 | E28: =MIN(C5:C24) -> 292 | F28: =MIN(F5:F24) -> 607 | H28: =ADDRESS(MATCH(MIN(F5:F24),F5:F24,0)+4,1) -> $A$11
A29: 原住民人數： | C29: 184 | D29: 人 | E29: 平地原住民： | G29: 99 | H29: 人
E30: 山地原住民： | G30: 85 | H30: 人
E31: 平埔原住民： | G31: 0 | H31: 人
A32: 出生人數： | C32: =K25 -> 8 | D32: 人 | E32: （生母國籍：大陸港澳地區0人；外國籍0人）
E33: （生父國籍：大陸港澳地區0人；外國籍1人）
A34: 死亡人數： | C34: =L25 -> 21 | D34: 人
A35: 結婚對數： | C35: =M25 -> 13 | D35: 對 | E35: （配偶國籍：大陸港澳地區2人；外國籍2人）
A36: 離婚/終止結婚對數： | C36: =N25 -> 4 | D36: 對 | E36: （配偶國籍：大陸港澳地區0人；外國籍1人）
A37: 本月遷入本區人數： | C37: =G25 -> 139 | D37: 人 | E37: 遷出本區人數： | G37: =H25 -> 157 | H37: 人
A38: =IF(C38>0," 本月戶數增加","本月戶數減少") -> 本月戶數減少 | C38: =C25-'11504'!C25 -> -1 | D38: =IF(E38>0,"男增加","男減少") -> 男減少 | E38: =D25-'11504'!D25 -> -12 | F38: =IF(G38>0,"女增加","女減少") -> 女減少 | G38: =E25-'11504'!E25 -> -19 | I38: =IF(K38>0,"總人口數增加","總人口數減少") -> 總人口數減少 | K38: =F25-'11504'!F25 -> -31

Sheet 11506
A1: 高雄市前金區各里人口異動概況
K2: 民國115年6月份
A3: 里別 | B3: 鄰數 | C3: 戶數 | D3: 人 | E3: 口 | F3: 數 | G3: 遷入數 | H3: 遷出數 | I3: 住變入 | J3: 住變出 | K3: 出生數 | L3: 死亡數 | M3: 結婚對數(含相同性別) | N3: 離婚/ 終止結婚 對數
D4: 男 | E4: 女 | F4: 合 計
A5: 三川 | B5: 9 | C5: 606 | D5: 488 | E5: 549 | F5: =SUM(D5:E5) -> 1037 | G5: 6 | H5: 5 | I5: 0 | J5: 0 | K5: 0 | L5: 0 | M5: 2 | N5: 1
A6: 草江 | B6: 9 | C6: 932 | D6: 724 | E6: 871 | F6: =SUM(D6:E6) -> 1595 | G6: 5 | H6: 5 | I6: 0 | J6: 1 | K6: 1 | L6: 1 | M6: 0 | N6: 0
A7: 長城 | B7: 17 | C7: 729 | D7: 680 | E7: 724 | F7: =SUM(D7:E7) -> 1404 | G7: 5 | H7: 3 | I7: 8 | J7: 8 | K7: 0 | L7: 2 | M7: 1 | N7: 1
A8: 北金 | B8: 8 | C8: 439 | D8: 391 | E8: 435 | F8: =SUM(D8:E8) -> 826 | G8: 2 | H8: 7 | I8: 1 | J8: 0 | K8: 0 | L8: 1 | M8: 0 | N8: 1
A9: 東金 | B9: 12 | C9: 563 | D9: 474 | E9: 544 | F9: =SUM(D9:E9) -> 1018 | G9: 2 | H9: 6 | I9: 1 | J9: 2 | K9: 0 | L9: 1 | M9: 2 | N9: 1
A10: 新生 | B10: 28 | C10: 2099 | D10: 1836 | E10: 2156 | F10: =SUM(D10:E10) -> 3992 | G10: 12 | H10: 14 | I10: 3 | J10: 0 | K10: 1 | L10: 5 | M10: 1 | N10: 1
A11: 後金 | B11: 10 | C11: 287 | D11: 321 | E11: 277 | F11: =SUM(D11:E11) -> 598 | G11: 0 | H11: 2 | I11: 0 | J11: 3 | K11: 0 | L11: 4 | M11: 0 | N11: 0
A12: 長興 | B12: 11 | C12: 812 | D12: 627 | E12: 725 | F12: =SUM(D12:E12) -> 1352 | G12: 5 | H12: 7 | I12: 1 | J12: 0 | K12: 0 | L12: 1 | M12: 2 | N12: 1
A13: 青山 | B13: 13 | C13: 1322 | D13: 984 | E13: 1232 | F13: =SUM(D13:E13) -> 2216 | G13: 10 | H13: 6 | I13: 0 | J13: 0 | K13: 1 | L13: 6 | M13: 1 | N13: 0
A14: 民生 | B14: 9 | C14: 547 | D14: 400 | E14: 528 | F14: =SUM(D14:E14) -> 928 | G14: 3 | H14: 6 | I14: 0 | J14: 0 | K14: 1 | L14: 0 | M14: 0 | N14: 0
A15: 復元 | B15: 10 | C15: 575 | D15: 524 | E15: 581 | F15: =SUM(D15:E15) -> 1105 | G15: 7 | H15: 9 | I15: 0 | J15: 0 | K15: 0 | L15: 1 | M15: 1 | N15: 0
A16: 林投 | B16: 13 | C16: 634 | D16: 626 | E16: 497 | F16: =SUM(D16:E16) -> 1123 | G16: 7 | H16: 6 | I16: 1 | J16: 2 | K16: 0 | L16: 3 | M16: 0 | N16: 1
... A24: 文東 | B24: 16 | C24: 595 | D24: 527 | E24: 618 | F24: =SUM(D24:E24) -> 1145 | G24: 2 | H24: 3 | I24: 1 | J24: 1 | K24: 0 | L24: 2 | M24: 0 | N24: 0
A25: 總計 | B25: =SUM(B5:B24) -> 258 | C25: =SUM(C5:C24) -> 15286 | D25: =SUM(D5:D24) -> 12823 | E25: =SUM(E5:E24) -> 14722 | F25: =SUM(F5:F24) -> 27545 | G25: =SUM(G5:G24) -> 100 | H25: =SUM(H5:H24) -> 109 | I25: =SUM(I5:I24) -> 24 | ... N25: =SUM(N5:N24) -> 9
A26: 全區總戶數： | C26: =C25 -> 15286 | D26: 戶 | E26: 全區總人口數： | G26: =F25 -> 27545 | H26: 人 | K26: 共20里
A27: 本區最大里： | C27: =INDIRECT(H27,TRUE) -> 新生 | D27: 里 | E27: =MAX(C5:C24) -> 2099 | F27: =MAX(F5:F24) -> 3992 | H27: =ADDRESS(MATCH(MAX(F5:F24),F5:F24,0)+4,1) -> $A$10
A28: 本區最小里： | C28: =INDIRECT(H28,TRUE) -> 後金 | D28: 里 | E28: =MIN(C5:C24) -> 287 | F28: =MIN(F5:F24) -> 598 | H28: =ADDRESS(MATCH(MIN(F5:F24),F5:F24,0)+4,1) -> $A$11
A29: 原住民人數： | C29: =SUM(G29:G31) -> 185 | D29: 人 | E29: 平地原住民： | G29: 99 | H29: 人
E30: 山地原住民： | G30: 86 | H30: 人
E31: 平埔原住民： | G31: 0 | H31: 人
A32: 出生人數： | C32: =K25 -> 6 | D32: 人 | E32: （生母國籍：大陸港澳地區0人；外國籍0人）
E33: （生父國籍：大陸港澳地區0人；外國籍0人）
A34: 死亡人數： | C34: =L25 -> 34 | D34: 人
A35: 結婚對數： | C35: =M25 -> 14 | D35: 對 | E35: （配偶國籍：大陸港澳地區1人；外國籍1人）
A36: 離婚/終止結婚對數： | C36: =N25 -> 9 | D36: 對 | E36: （配偶國籍：大陸港澳地區0人；外國籍0人）
A37: 本月遷入本區人數： | C37: =G25 -> 100 | D37: 人 | E37: 遷出本區人數： | G37: =H25 -> 109 | H37: 人
A38: =IF(C38>0," 本月戶數增加","本月戶數減少") -> 本月戶數減少 | C38: =C25-'11505'!C25 -> -15 | D38: =IF(E38>0,"男增加","男減少") -> 男減少 | E38: =D25-'11505'!D25 -> -11 | F38: =IF(G38>0,"女增加","女減少") -> 女減少 | G38: =E25-'11505'!E25 -> -26 | I38: =IF(K38>0,"總人口數增加","總人口數減少") -> 總人口數減少 | K38: =F25-'11505'!F25 -> -37

Sheet 11507
A1: 高雄市前金區各里人口異動概況
K2: 民國115年7月份
A3: 里別 | B3: 鄰數 | C3: 戶數 | D3: 人 | E3: 口 | F3: 數 | G3: 遷入數 | H3: 遷出數 | I3: 住變入 | J3: 住變出 | K3: 出生數 | L3: 死亡數 | M3: 結婚對數(含相同性別) | N3: 離婚/ 終止結婚 對數
D4: 男 | E4: 女 | F4: 合 計
A5: 三川 | B5: 9 | C5: 607 | D5: 490 | E5: 547 | F5: =SUM(D5:E5) -> 1037 | G5: 2 | H5: 4 | I5: 2 | J5: 1 | K5: 1 | L5: 0 | M5: 0 | N5: 0
A6: 草江 | B6: 9 | C6: 929 | D6: 723 | E6: 867 | F6: =SUM(D6:E6) -> 1590 | G6: 6 | H6: 11 | I6: 2 | J6: 3 | K6: 1 | L6: 0 | M6: 1 | N6: 0
A7: 長城 | B7: 17 | C7: 727 | D7: 679 | E7: 722 | F7: =SUM(D7:E7) -> 1401 | G7: 3 | H7: 5 | I7: 0 | J7: 1 | K7: 0 | L7: 0 | M7: 0 | N7: 0
A8: 北金 | B8: 8 | C8: 439 | D8: 390 | E8: 436 | F8: =SUM(D8:E8) -> 826 | G8: 5 | H8: 4 | I8: 0 | J8: 0 | K8: 1 | L8: 2 | M8: 0 | N8: 0
A9: 東金 | B9: 12 | C9: 565 | D9: 474 | E9: 544 | F9: =SUM(D9:E9) -> 1018 | G9: 3 | H9: 1 | I9: 0 | J9: 1 | K9: 0 | L9: 1 | M9: 0 | N9: 0
A10: 新生 | B10: 28 | C10: 2101 | D10: 1827 | E10: 2153 | F10: =SUM(D10:E10) -> 3980 | G10: 17 | H10: 23 | I10: 3 | J10: 4 | K10: 0 | L10: 5 | M10: 0 | N10: 0
A11: 後金 | B11: 10 | C11: 287 | D11: 321 | E11: 275 | F11: =SUM(D11:E11) -> 596 | G11: 0 | H11: 1 | I11: 0 | J11: 0 | K11: 0 | L11: 1 | M11: 1 | N11: 0
A12: 長興 | B12: 11 | C12: 815 | D12: 629 | E12: 728 | F12: =SUM(D12:E12) -> 1357 | G12: 8 | H12: 1 | I12: 1 | J12: 2 | K12: 0 | L12: 1 | M12: 1 | N12: 1
A13: 青山 | B13: 13 | C13: 1318 | D13: 987 | E13: 1230 | F13: =SUM(D13:E13) -> 2217 | G13: 10 | H13: 9 | I13: 3 | J13: 3 | K13: 1 | L13: 1 | M13: 1 | N13: 1
A14: 民生 | B14: 9 | C14: 547 | D14: 402 | E14: 528 | F14: =SUM(D14:E14) -> 930 | G14: 6 | H14: 4 | I14: 0 | J14: 1 | K14: 1 | L14: 0 | M14: 3 | N14: 1
A15: 復元 | B15: 10 | C15: 577 | D15: 526 | E15: 577 | F15: =SUM(D15:E15) -> 1103 | G15: 4 | H15: 7 | I15: 3 | J15: 2 | K15: 1 | L15: 1 | M15: 1 | N15: 0
A16: 林投 | B16: 13 | C16: 630 | D16: 619 | E16: 488 | F16: =SUM(D16:E16) -> 1107 | G16: 3 | H16: 18 | I16: 5 | J16: 4 | K16: 0 | L16: 2 | M16: 0 | N16: 1
... A24: 文東 | B24: 16 | C24: 593 | D24: 522 | E24: 618 | F24: =SUM(D24:E24) -> 1140 | G24: 6 | H24: 6 | I24: 2 | J24: 3 | K24: 0 | L24: 4 | M24: 1 | N24: 0
A25: 總計 | B25: =SUM(B5:B24) -> 258 | C25: =SUM(C5:C24) -> 15283 | D25: =SUM(D5:D24) -> 12804 | E25: =SUM(E5:E24) -> 14700 | F25: =SUM(F5:F24) -> 27504 | G25: =SUM(G5:G24) -> 123 | H25: =SUM(H5:H24) -> 142 | I25: =SUM(I5:I24) -> 32 | ... N25: =SUM(N5:N24) -> 5
A26: 全區總戶數： | C26: =C25 -> 15283 | D26: 戶 | E26: 全區總人口數： | G26: =F25 -> 27504 | H26: 人 | K26: 共20里
A27: 本區最大里： | C27: =INDIRECT(H27,TRUE) -> 新生 | D27: 里 | E27: =MAX(C5:C24) -> 2101 | F27: =MAX(F5:F24) -> 3980 | H27: =ADDRESS(MATCH(MAX(F5:F24),F5:F24,0)+4,1) -> $A$10
A28: 本區最小里： | C28: =INDIRECT(H28,TRUE) -> 後金 | D28: 里 | E28: =MIN(C5:C24) -> 287 | F28: =MIN(F5:F24) -> 596 | H28: =ADDRESS(MATCH(MIN(F5:F24),F5:F24,0)+4,1) -> $A$11
A29: 原住民人數： | C29: =SUM(G29:G30) -> 179 | D29: 人 | E29: 平地原住民： | G29: 101 | H29: 人
E30: 山地原住民： | G30: 78 | H30: 人
E31: 平埔原住民： | G31: 0 | H31: 人
A32: 出生人數： | C32: =K25 -> 7 | D32: 人 | E32: （生母國籍：大陸港澳地區0人；外國籍0人）
E33: （生父國籍：大陸港澳地區0人；外國籍2人）
A34: 死亡人數： | C34: =L25 -> 29 | D34: 人
A35: 結婚對數： | C35: =M25 -> 12 | D35: 對 | E35: （配偶國籍：大陸港澳地區1人；外國籍5人）
A36: 離婚/終止結婚對數： | C36: =N25 -> 5 | D36: 對 | E36: （配偶國籍：大陸港澳地區0人；外國籍1人）
A37: 本月遷入本區人數： | C37: =G25 -> 123 | D37: 人 | E37: 遷出本區人數： | G37: =H25 -> 142 | H37: 人
A38: =IF(C38>0," 本月戶數增加","本月戶數減少") -> 本月戶數減少 | C38: =C25-'11506'!C25 -> -3 | D38: =IF(E38>0,"男增加","男減少") -> 男減少 | E38: =D25-'[1]11506'!D25 -> -19 | F38: =IF(G38>0,"女增加","女減少") -> 女減少 | G38: =E25-'[1]11506'!E25 -> -22 | I38: =IF(K38>0,"總人口數增加","總人口數減少") -> 總人口數減少 | K38: =F25-'[1]11506'!F25 -> -41

Sheet 11508
A1: 高雄市前金區各里人口異動概況
K2: 民國115年8月份
A3: 里別 | B3: 鄰數 | C3: 戶數 | D3: 人 | E3: 口 | F3: 數 | G3: 遷入數 | H3: 遷出數 | I3: 住變入 | J3: 住變出 | K3: 出生數 | L3: 死亡數 | M3: 結婚對數(含相同性別) | N3: 離婚/ 終止結婚 對數
D4: 男 | E4: 女 | F4: 合 計
A5: 三川 | B5: 9 | C5: 607 | D5: 492 | E5: 543 | F5: =SUM(D5:E5) -> 1035 | G5: 7 | H5: 9 | I5: 0 | J5: 0 | K5: 0 | L5: 0 | M5: 0 | N5: 1
A6: 草江 | B6: 9 | C6: 925 | D6: 719 | E6: 863 | F6: =SUM(D6:E6) -> 1582 | G6: 3 | H6: 10 | I6: 0 | J6: 0 | K6: 1 | L6: 2 | M6: 0 | N6: 0
A7: 長城 | B7: 17 | C7: 723 | D7: 675 | E7: 713 | F7: =SUM(D7:E7) -> 1388 | G7: 4 | H7: 15 | I7: 1 | J7: 0 | K7: 0 | L7: 3 | M7: 0 | N7: 0
A8: 北金 | B8: 8 | C8: 438 | D8: 388 | E8: 435 | F8: =SUM(D8:E8) -> 823 | G8: 0 | H8: 3 | I8: 0 | J8: 0 | K8: 0 | L8: 0 | M8: 0 | N8: 0
A9: 東金 | B9: 12 | C9: 562 | D9: 471 | E9: 541 | F9: =SUM(D9:E9) -> 1012 | G9: 3 | H9: 9 | I9: 0 | J9: 0 | K9: 0 | L9: 0 | M9: 0 | N9: 0
A10: 新生 | B10: 28 | C10: 2096 | D10: 1819 | E10: 2150 | F10: =SUM(D10:E10) -> 3969 | G10: 17 | H10: 23 | I10: 0 | J10: 1 | K10: 0 | L10: 4 | M10: 1 | N10: 0
A11: 後金 | B11: 10 | C11: 286 | D11: 316 | E11: 274 | F11: =SUM(D11:E11) -> 590 | G11: 1 | H11: 6 | I11: 0 | J11: 1 | K11: 0 | L11: 0 | M11: 0 | N11: 0
A12: 長興 | B12: 11 | C12: 815 | D12: 625 | E12: 729 | F12: =SUM(D12:E12) -> 1354 | G12: 6 | H12: 8 | I12: 0 | J12: 1 | K12: 0 | L12: 0 | M12: 1 | N12: 0
A13: 青山 | B13: 13 | C13: 1311 | D13: 982 | E13: 1225 | F13: =SUM(D13:E13) -> 2207 | G13: 6 | H13: 14 | I13: 0 | J13: 0 | K13: 0 | L13: 2 | M13: 0 | N13: 1
A14: 民生 | B14: 9 | C14: 551 | D14: 407 | E14: 530 | F14: =SUM(D14:E14) -> 937 | G14: 6 | H14: 0 | I14: 0 | J14: 0 | K14: 1 | L14: 0 | M14: 0 | N14: 0
A15: 復元 | B15: 10 | C15: 578 | D15: 524 | E15: 576 | F15: =SUM(D15:E15) -> 1100 | G15: 2 | H15: 6 | I15: 2 | J15: 0 | K15: 0 | L15: 1 | M15: 1 | N15: 0
A16: 林投 | B16: 13 | C16: 629 | D16: 621 | E16: 489 | F16: =SUM(D16:E16) -> 1110 | G16: 3 | H16: 5 | I16: 6 | J16: 0 | K16: 0 | L16: 1 | M16: 0 | N16: 0
... A24: 文東 | B24: 16 | C24: 592 | D24: 522 | E24: 611 | F24: =SUM(D24:E24) -> 1133 | G24: 3 | H24: 7 | I24: 0 | J24: 2 | K24: 1 | L24: 2 | M24: 1 | N24: 0
A25: 總計 | B25: =SUM(B5:B24) -> 258 | C25: =SUM(C5:C24) -> 15259 | D25: =SUM(D5:D24) -> 12768 | E25: =SUM(E5:E24) -> 14666 | F25: =SUM(F5:F24) -> 27434 | G25: =SUM(G5:G24) -> 108 | H25: =SUM(H5:H24) -> 165 | I25: =SUM(I5:I24) -> 16 | ... N25: =SUM(N5:N24) -> 3
A26: 全區總戶數： | C26: =C25 -> 15259 | D26: 戶 | E26: 全區總人口數： | G26: =F25 -> 27434 | H26: 人 | K26: 共20里
A27: 本區最大里： | C27: =INDIRECT(H27,TRUE) -> 新生 | D27: 里 | E27: =MAX(C5:C24) -> 2096 | F27: =MAX(F5:F24) -> 3969 | H27: =ADDRESS(MATCH(MAX(F5:F24),F5:F24,0)+4,1) -> $A$10
A28: 本區最小里： | C28: =INDIRECT(H28,TRUE) -> 後金 | D28: 里 | E28: =MIN(C5:C24) -> 286 | F28: =MIN(F5:F24) -> 590 | H28: =ADDRESS(MATCH(MIN(F5:F24),F5:F24,0)+4,1) -> $A$11
A29: 原住民人數： | C29: 176 | D29: 人 | E29: 平地原住民： | G29: 99 | H29: 人
E30: 山地原住民： | G30: 77 | H30: 人
E31: 平埔原住民： | G31: 0 | H31: 人
A32: 出生人數： | C32: =K25 -> 8 | D32: 人 | E32: （生母國籍：大陸港澳地區0人；外國籍0人）
E33: （生父國籍：大陸港澳地區0人；外國籍0人）
A34: 死亡人數： | C34: =L25 -> 21 | D34: 人
A35: 結婚對數： | C35: =M25 -> 6 | D35: 對 | E35: （配偶國籍：大陸港澳地區0人；外國籍2人）
A36: 離婚/終止結婚對數： | C36: =N25 -> 3 | D36: 對 | E36: （配偶國籍：大陸港澳地區0人；外國籍0人）
A37: 本月遷入本區人數： | C37: =G25 -> 108 | D37: 人 | E37: 遷出本區人數： | G37: =H25 -> 165 | H37: 人
A38: =IF(C38>0," 本月戶數增加","本月戶數減少") -> 本月戶數減少 | C38: =C25-'11507'!C25 -> -24 | D38: =IF(E38>0,"男增加","男減少") -> 男減少 | E38: =D25-'11507'!D25 -> -36 | F38: =IF(G38>0,"女增加","女減少") -> 女減少 | G38: =E25-'11507'!E25 -> -34 | I38: =IF(K38>0,"總人口數增加","總人口數減少") -> 總人口數減少 | K38: =F25-'11507'!F25 -> -70

Sheet 11509
A1: 高雄市前金區各里人口異動概況
K2: 民國115年9月份
A3: 里別 | B3: 鄰數 | C3: 戶數 | D3: 人 | E3: 口 | F3: 數 | G3: 遷入數 | H3: 遷出數 | I3: 住變入 | J3: 住變出 | K3: 出生數 | L3: 死亡數 | M3: 結婚對數(含相同性別) | N3: 離婚/ 終止結婚 對數
D4: 男 | E4: 女 | F4: 合 計
A5: 三川 | B5: 9 | F5: =SUM(D5:E5) -> 0
A6: 草江 | B6: 9 | F6: =SUM(D6:E6) -> 0
A7: 長城 | B7: 17 | F7: =SUM(D7:E7) -> 0
A8: 北金 | B8: 8 | F8: =SUM(D8:E8) -> 0
A9: 東金 | B9: 12 | F9: =SUM(D9:E9) -> 0
A10: 新生 | B10: 28 | F10: =SUM(D10:E10) -> 0
A11: 後金 | B11: 10 | F11: =SUM(D11:E11) -> 0
A12: 長興 | B12: 11 | F12: =SUM(D12:E12) -> 0
A13: 青山 | B13: 13 | F13: =SUM(D13:E13) -> 0
A14: 民生 | B14: 9 | F14: =SUM(D14:E14) -> 0
A15: 復元 | B15: 10 | F15: =SUM(D15:E15) -> 0
A16: 林投 | B16: 13 | F16: =SUM(D16:E16) -> 0
... A24: 文東 | B24: 16 | F24: =SUM(D24:E24) -> 0
A25: 總計 | B25: =SUM(B5:B24) -> 258 | C25: =SUM(C5:C24) -> 0 | D25: =SUM(D5:D24) -> 0 | E25: =SUM(E5:E24) -> 0 | F25: =SUM(F5:F24) -> 0 | G25: =SUM(G5:G24) -> 0 | H25: =SUM(H5:H24) -> 0 | I25: =SUM(I5:I24) -> 0 | ... N25: =SUM(N5:N24) -> 0
A26: 全區總戶數： | C26: =C25 -> 0 | D26: 戶 | E26: 全區總人口數： | G26: =F25 -> 0 | H26: 人 | K26: 共20里
A27: 本區最大里： | C27: =INDIRECT(H27,TRUE) -> 三川 | D27: 里 | E27: =MAX(C5:C24) -> 0 | F27: =MAX(F5:F24) -> 0 | H27: =ADDRESS(MATCH(MAX(F5:F24),F5:F24,0)+4,1) -> $A$5
A28: 本區最小里： | C28: =INDIRECT(H28,TRUE) -> 三川 | D28: 里 | E28: =MIN(C5:C24) -> 0 | F28: =MIN(F5:F24) -> 0 | H28: =ADDRESS(MATCH(MIN(F5:F24),F5:F24,0)+4,1) -> $A$5
A29: 原住民人數： | C29: =SUM(G29:G31) -> 0 | D29: 人 | E29: 平地原住民： | G29: 0 | H29: 人
E30: 山地原住民： | G30: 0 | H30: 人
E31: 平埔原住民： | G31: 0 | H31: 人
A32: 出生人數： | C32: =K25 -> 0 | D32: 人 | E32: （生母國籍：大陸港澳地區0人；外國籍0人）
E33: （生父國籍：大陸港澳地區0人；外國籍0人）
A34: 死亡人數： | C34: =L25 -> 0 | D34: 人
A35: 結婚對數： | C35: =M25 -> 0 | D35: 對 | E35: （配偶國籍：大陸港澳地區0人；外國籍0人）
A36: 離婚/終止結婚對數： | C36: =N25 -> 0 | D36: 對 | E36: （配偶國籍：大陸港澳地區0人；外國籍0人）
A37: 本月遷入本區人數： | C37: =G25 -> 0 | D37: 人 | E37: 遷出本區人數： | G37: =H25 -> 0 | H37: 人
A38: =IF(C38>0," 本月戶數增加","本月戶數減少") -> 本月戶數減少 | C38: =C25-'11508'!C25 -> -15259 | D38: =IF(E38>0,"男增加","男減少") -> 男減少 | E38: =D25-'11508'!D25 -> -12768 | F38: =IF(G38>0,"女增加","女減少") -> 女減少 | G38: =E25-'11508'!E25 -> -14666 | I38: =IF(K38>0,"總人口數增加","總人口數減少") -> 總人口數減少 | K38: =F25-'11508'!F25 -> -27434

Sheet 11510
A1: 高雄市前金區各里人口異動概況
K2: 民國115年10月份
A3: 里別 | B3: 鄰數 | C3: 戶數 | D3: 人 | E3: 口 | F3: 數 | G3: 遷入數 | H3: 遷出數 | I3: 住變入 | J3: 住變出 | K3: 出生數 | L3: 死亡數 | M3: 結婚對數(含相同性別) | N3: 離婚/ 終止結婚 對數
D4: 男 | E4: 女 | F4: 合 計
A5: 三川 | B5: 9 | F5: =SUM(D5:E5) -> 0
A6: 草江 | B6: 9 | F6: =SUM(D6:E6) -> 0
A7: 長城 | B7: 17 | F7: =SUM(D7:E7) -> 0
A8: 北金 | B8: 8 | F8: =SUM(D8:E8) -> 0
A9: 東金 | B9: 12 | F9: =SUM(D9:E9) -> 0
A10: 新生 | B10: 28 | F10: =SUM(D10:E10) -> 0
A11: 後金 | B11: 10 | F11: =SUM(D11:E11) -> 0
A12: 長興 | B12: 11 | F12: =SUM(D12:E12) -> 0
A13: 青山 | B13: 13 | F13: =SUM(D13:E13) -> 0
A14: 民生 | B14: 9 | F14: =SUM(D14:E14) -> 0
A15: 復元 | B15: 10 | F15: =SUM(D15:E15) -> 0
A16: 林投 | B16: 13 | F16: =SUM(D16:E16) -> 0
... A24: 文東 | B24: 16 | F24: =SUM(D24:E24) -> 0
A25: 總計 | B25: =SUM(B5:B24) -> 258 | C25: =SUM(C5:C24) -> 0 | D25: =SUM(D5:D24) -> 0 | E25: =SUM(E5:E24) -> 0 | F25: =SUM(F5:F24) -> 0 | G25: =SUM(G5:G24) -> 0 | H25: =SUM(H5:H24) -> 0 | I25: =SUM(I5:I24) -> 0 | ... N25: =SUM(N5:N24) -> 0
A26: 全區總戶數： | C26: =C25 -> 0 | D26: 戶 | E26: 全區總人口數： | G26: =F25 -> 0 | H26: 人 | K26: 共20里
A27: 本區最大里： | C27: =INDIRECT(H27,TRUE) -> 三川 | D27: 里 | E27: =MAX(C5:C24) -> 0 | F27: =MAX(F5:F24) -> 0 | H27: =ADDRESS(MATCH(MAX(F5:F24),F5:F24,0)+4,1) -> $A$5
A28: 本區最小里： | C28: =INDIRECT(H28,TRUE) -> 三川 | D28: 里 | E28: =MIN(C5:C24) -> 0 | F28: =MIN(F5:F24) -> 0 | H28: =ADDRESS(MATCH(MIN(F5:F24),F5:F24,0)+4,1) -> $A$5
A29: 原住民人數： | C29: =SUM(G29:G31) -> 0 | D29: 人 | E29: 平地原住民： | G29: 0 | H29: 人
E30: 山地原住民： | G30: 0 | H30: 人
E31: 平埔原住民： | G31: 0 | H31: 人
A32: 出生人數： | C32: =K25 -> 0 | D32: 人 | E32: （生母國籍：大陸港澳地區0人；外國籍0人）
E33: （生父國籍：大陸港澳地區0人；外國籍0人）
A34: 死亡人數： | C34: =L25 -> 0 | D34: 人
A35: 結婚對數： | C35: =M25 -> 0 | D35: 對 | E35: （配偶國籍：大陸港澳地區0人；外國籍0人）
A36: 離婚/終止結婚對數： | C36: =N25 -> 0 | D36: 對 | E36: （配偶國籍：大陸港澳地區0人；外國籍0人）
A37: 本月遷入本區人數： | C37: =G25 -> 0 | D37: 人 | E37: 遷出本區人數： | G37: =H25 -> 0 | H37: 人
A38: =IF(C38>0," 本月戶數增加","本月戶數減少") -> 本月戶數減少 | C38: =C25-'11509'!C25 -> 0 | D38: =IF(E38>0,"男增加","男減少") -> 男減少 | E38: =D25-'11509'!D25 -> 0 | F38: =IF(G38>0,"女增加","女減少") -> 女減少 | G38: =E25-'11509'!E25 -> 0 | I38: =IF(K38>0,"總人口數增加","總人口數減少") -> 總人口數減少 | K38: =F25-'11509'!F25 -> 0

Sheet 11511
A1: 高雄市前金區各里人口異動概況
K2: 民國115年11月份
A3: 里別 | B3: 鄰數 | C3: 戶數 | D3: 人 | E3: 口 | F3: 數 | G3: 遷入數 | H3: 遷出數 | I3: 住變入 | J3: 住變出 | K3: 出生數 | L3: 死亡數 | M3: 結婚對數(含相同性別) | N3: 離婚/ 終止結婚 對數
D4: 男 | E4: 女 | F4: 合 計
A5: 三川 | B5: 9 | F5: =SUM(D5:E5) -> 0
A6: 草江 | B6: 9 | F6: =SUM(D6:E6) -> 0
A7: 長城 | B7: 17 | F7: =SUM(D7:E7) -> 0
A8: 北金 | B8: 8 | F8: =SUM(D8:E8) -> 0
A9: 東金 | B9: 12 | F9: =SUM(D9:E9) -> 0
A10: 新生 | B10: 28 | F10: =SUM(D10:E10) -> 0
A11: 後金 | B11: 10 | F11: =SUM(D11:E11) -> 0
A12: 長興 | B12: 11 | F12: =SUM(D12:E12) -> 0
A13: 青山 | B13: 13 | F13: =SUM(D13:E13) -> 0
A14: 民生 | B14: 9 | F14: =SUM(D14:E14) -> 0
A15: 復元 | B15: 10 | F15: =SUM(D15:E15) -> 0
A16: 林投 | B16: 13 | F16: =SUM(D16:E16) -> 0
... A24: 文東 | B24: 16 | F24: =SUM(D24:E24) -> 0
A25: 總計 | B25: =SUM(B5:B24) -> 258 | C25: =SUM(C5:C24) -> 0 | D25: =SUM(D5:D24) -> 0 | E25: =SUM(E5:E24) -> 0 | F25: =SUM(F5:F24) -> 0 | G25: =SUM(G5:G24) -> 0 | H25: =SUM(H5:H24) -> 0 | I25: =SUM(I5:I24) -> 0 | ... N25: =SUM(N5:N24) -> 0
A26: 全區總戶數： | C26: =C25 -> 0 | D26: 戶 | E26: 全區總人口數： | G26: =F25 -> 0 | H26: 人 | K26: 共20里
A27: 本區最大里： | C27: =INDIRECT(H27,TRUE) -> 三川 | D27: 里 | E27: =MAX(C5:C24) -> 0 | F27: =MAX(F5:F24) -> 0 | H27: =ADDRESS(MATCH(MAX(F5:F24),F5:F24,0)+4,1) -> $A$5
A28: 本區最小里： | C28: =INDIRECT(H28,TRUE) -> 三川 | D28: 里 | E28: =MIN(C5:C24) -> 0 | F28: =MIN(F5:F24) -> 0 | H28: =ADDRESS(MATCH(MIN(F5:F24),F5:F24,0)+4,1) -> $A$5
A29: 原住民人數： | C29: =SUM(G29,G31) -> 0 | D29: 人 | E29: 平地原住民： | G29: 0 | H29: 人
E30: 山地原住民： | G30: 0 | H30: 人
E31: 平埔原住民： | G31: 0 | H31: 人
A32: 出生人數： | C32: =K25 -> 0 | D32: 人 | E32: （生母國籍：大陸港澳地區0人；外國籍0人）
E33: （生父國籍：大陸港澳地區0人；外國籍0人）
A34: 死亡人數： | C34: =L25 -> 0 | D34: 人
A35: 結婚對數： | C35: =M25 -> 0 | D35: 對 | E35: （配偶國籍：大陸港澳地區0人；外國籍0人）
A36: 離婚/終止結婚對數： | C36: =N25 -> 0 | D36: 對 | E36: （配偶國籍：大陸港澳地區0人；外國籍0人）
A37: 本月遷入本區人數： | C37: =G25 -> 0 | D37: 人 | E37: 遷出本區人數： | G37: =H25 -> 0 | H37: 人
A38: =IF(C38>0," 本月戶數增加","本月戶數減少") -> 本月戶數減少 | C38: =C25-'11510'!C25 -> 0 | D38: =IF(E38>0,"男增加","男減少") -> 男減少 | E38: =D25-'11510'!D25 -> 0 | F38: =IF(G38>0,"女增加","女減少") -> 女減少 | G38: =E25-'11510'!E25 -> 0 | I38: =IF(K38>0,"總人口數增加","總人口數減少") -> 總人口數減少 | K38: =F25-'11510'!F25 -> 0

Sheet 11512
A1: 高雄市前金區各里人口異動概況
K2: 民國115年12月份
A3: 里別 | B3: 鄰數 | C3: 戶數 | D3: 人 | E3: 口 | F3: 數 | G3: 遷入數 | H3: 遷出數 | I3: 住變入 | J3: 住變出 | K3: 出生數 | L3: 死亡數 | M3: 結婚對數(含相同性別) | N3: 離婚/ 終止結婚 對數
D4: 男 | E4: 女 | F4: 合 計
A5: 三川 | B5: 9 | F5: =SUM(D5:E5) -> 0
A6: 草江 | B6: 9 | F6: =SUM(D6:E6) -> 0
A7: 長城 | B7: 17 | F7: =SUM(D7:E7) -> 0
A8: 北金 | B8: 8 | F8: =SUM(D8:E8) -> 0
A9: 東金 | B9: 12 | F9: =SUM(D9:E9) -> 0
A10: 新生 | B10: 28 | F10: =SUM(D10:E10) -> 0
A11: 後金 | B11: 10 | F11: =SUM(D11:E11) -> 0
A12: 長興 | B12: 11 | F12: =SUM(D12:E12) -> 0
A13: 青山 | B13: 13 | F13: =SUM(D13:E13) -> 0
A14: 民生 | B14: 9 | F14: =SUM(D14:E14) -> 0
A15: 復元 | B15: 10 | F15: =SUM(D15:E15) -> 0
A16: 林投 | B16: 13 | F16: =SUM(D16:E16) -> 0
... A24: 文東 | B24: 16 | F24: =SUM(D24:E24) -> 0
A25: 總計 | B25: =SUM(B5:B24) -> 258 | C25: =SUM(C5:C24) -> 0 | D25: =SUM(D5:D24) -> 0 | E25: =SUM(E5:E24) -> 0 | F25: =SUM(F5:F24) -> 0 | G25: =SUM(G5:G24) -> 0 | H25: =SUM(H5:H24) -> 0 | I25: =SUM(I5:I24) -> 0 | ... N25: =SUM(N5:N24) -> 0
A26: 全區總戶數： | C26: =C25 -> 0 | D26: 戶 | E26: 全區總人口數： | G26: =F25 -> 0 | H26: 人 | K26: 共20里
A27: 本區最大里： | C27: =INDIRECT(H27,TRUE) -> 三川 | D27: 里 | E27: =MAX(C5:C24) -> 0 | F27: =MAX(F5:F24) -> 0 | H27: =ADDRESS(MATCH(MAX(F5:F24),F5:F24,0)+4,1) -> $A$5
A28: 本區最小里： | C28: =INDIRECT(H28,TRUE) -> 三川 | D28: 里 | E28: =MIN(C5:C24) -> 0 | F28: =MIN(F5:F24) -> 0 | H28: =ADDRESS(MATCH(MIN(F5:F24),F5:F24,0)+4,1) -> $A$5
A29: 原住民人數： | C29: =SUM(G29,G31) -> 0 | D29: 人 | E29: 平地原住民： | G29: 0 | H29: 人
E30: 山地原住民： | G30: 0 | H30: 人
E31: 平埔原住民： | G31: 0 | H31: 人
A32: 出生人數： | C32: =K25 -> 0 | D32: 人 | E32: （生母國籍：大陸港澳地區10人；外國籍0人）
E33: （生父國籍：大陸港澳地區0人；外國籍0人）
A34: 死亡人數： | C34: =L25 -> 0 | D34: 人
A35: 結婚對數： | C35: =M25 -> 0 | D35: 對 | E35: （配偶國籍：大陸港澳地區0人；外國籍0人）
A36: 離婚/終止結婚對數： | C36: =N25 -> 0 | D36: 對 | E36: （配偶國籍：大陸港澳地區0人；外國籍0人）
A37: 本月遷入本區人數： | C37: =G25 -> 0 | D37: 人 | E37: 遷出本區人數： | G37: =H25 -> 0 | H37: 人
A38: =IF(C38>0," 本月戶數增加","本月戶數減少") -> 本月戶數減少 | C38: =C25-'11511'!C25 -> 0 | D38: =IF(E38>0,"男增加","男減少") -> 男減少 | E38: =D25-'11511'!D25 -> 0 | F38: =IF(G38>0,"女增加","女減少") -> 女減少 | G38: =E25-'11511'!E25 -> 0 | I38: =IF(K38>0,"總人口數增加","總人口數減少") -> 總人口數減少 | K38: =F25-'11511'!F25 -> 0
