Workbook

Sheet 11401
A1: 高雄市前金區各里人口異動概況
K2: 民國114年1月份
A3: 里別 | B3: 鄰數 | C3: 戶數 | D3: 人 | E3: 口 | F3: 數 | G3: 遷入數 | H3: 遷出數 | I3: 住變入 | J3: 住變出 | K3: 出生數 | L3: 死亡數 | M3: 結婚對數(含相同性別) | N3: 離婚/ 終止結婚 對數
D4: 男 | E4: 女 | F4: 合 計
A5: 三川 | B5: 9 | C5: 567 | D5: 475 | E5: 525 | F5: =SUM(D5:E5) -> 1000 | G5: 6 | H5: 9 | I5: 3 | J5: 0 | K5: 1 | L5: 2 | M5: 0 | N5: 0
A6: 草江 | B6: 9 | C6: 839 | D6: 696 | E6: 824 | F6: =SUM(D6:E6) -> 1520 | G6: 10 | H6: 6 | I6: 0 | J6: 3 | K6: 0 | L6: 1 | M6: 0 | N6: 0
A7: 長城 | B7: 17 | C7: 712 | D7: 671 | E7: 743 | F7: =SUM(D7:E7) -> 1414 | G7: 8 | H7: 7 | I7: 3 | J7: 4 | K7: 0 | L7: 2 | M7: 2 | N7: 0
A8: 北金 | B8: 8 | C8: 438 | D8: 404 | E8: 448 | F8: =SUM(D8:E8) -> 852 | G8: 5 | H8: 7 | I8: 0 | J8: 1 | K8: 0 | L8: 0 | M8: 0 | N8: 0
A9: 東金 | B9: 12 | C9: 530 | D9: 468 | E9: 545 | F9: =SUM(D9:E9) -> 1013 | G9: 4 | H9: 2 | I9: 1 | J9: 1 | K9: 0 | L9: 0 | M9: 1 | N9: 0
A10: 新生 | B10: 28 | C10: 2018 | D10: 1843 | E10: 2128 | F10: =SUM(D10:E10) -> 3971 | G10: 16 | H10: 27 | I10: 1 | J10: 2 | K10: 0 | L10: 2 | M10: 1 | N10: 1
A11: 後金 | B11: 10 | C11: 294 | D11: 331 | E11: 308 | F11: =SUM(D11:E11) -> 639 | G11: 3 | H11: 4 | I11: 3 | J11: 4 | K11: 1 | L11: 1 | M11: 0 | N11: 0
A12: 長興 | B12: 11 | C12: 777 | D12: 618 | E12: 720 | F12: =SUM(D12:E12) -> 1338 | G12: 6 | H12: 11 | I12: 3 | J12: 3 | K12: 1 | L12: 2 | M12: 1 | N12: 0
A13: 青山 | B13: 13 | C13: 1215 | D13: 952 | E13: 1178 | F13: =SUM(D13:E13) -> 2130 | G13: 23 | H13: 20 | I13: 1 | J13: 2 | K13: 3 | L13: 1 | M13: 1 | N13: 1
A14: 民生 | B14: 9 | C14: 509 | D14: 402 | E14: 510 | F14: =SUM(D14:E14) -> 912 | G14: 0 | H14: 8 | I14: 0 | J14: 0 | K14: 0 | L14: 1 | M14: 0 | N14: 0
A15: 復元 | B15: 10 | C15: 563 | D15: 524 | E15: 620 | F15: =SUM(D15:E15) -> 1144 | G15: 10 | H15: 6 | I15: 0 | J15: 0 | K15: 0 | L15: 2 | M15: 0 | N15: 0
A16: 林投 | B16: 13 | C16: 631 | D16: 641 | E16: 503 | F16: =SUM(D16:E16) -> 1144 | G16: 1 | H16: 10 | I16: 4 | J16: 2 | K16: 1 | L16: 0 | M16: 1 | N16: 0
... A24: 文東 | B24: 16 | C24: 591 | D24: 550 | E24: 638 | F24: =SUM(D24:E24) -> 1188 | G24: 7 | H24: 8 | I24: 1 | J24: 2 | K24: 0 | L24: 1 | M24: 0 | N24: 0
A25: 總計 | B25: =SUM(B5:B24) -> 258 | C25: =SUM(C5:C24) -> 14322 | D25: =SUM(D5:D24) -> 12665 | E25: =SUM(E5:E24) -> 14517 | F25: =SUM(F5:F24) -> 27182 | G25: =SUM(G5:G24) -> 188 | H25: =SUM(H5:H24) -> 187 | I25: =SUM(I5:I24) -> 34 | ... N25: =SUM(N5:N24) -> 5
A26: 全區總戶數： | C26: =C25 -> 14322 | D26: 戶 | E26: 全區總人口數： | G26: =F25 -> 27182 | H26: 人 | K26: 共20里
A27: 本區最大里： | C27: =INDIRECT(H27,TRUE) -> 新生 | D27: 里 | E27: =MAX(C5:C24) -> 2018 | F27: =MAX(F5:F24) -> 3971 | H27: =ADDRESS(MATCH(MAX(F5:F24),F5:F24,0)+4,1) -> $A$10
A28: 本區最小里： | C28: =INDIRECT(H28,TRUE) -> 後金 | D28: 里 | E28: =MIN(C5:C24) -> 294 | F28: =MIN(F5:F24) -> 639 | H28: =ADDRESS(MATCH(MIN(F5:F24),F5:F24,0)+4,1) -> $A$11
A29: 原住民人數： | C29: =SUM(G29:G30) -> 149 | D29: 人 | E29: 平地原住民： | G29: 79 | H29: 人
E30: 山地原住民： | G30: 70 | H30: 人
A31: 出生人數： | C31: =K25 -> 7 | D31: 人 | E31: （生母國籍：大陸港澳地區0人；外國籍1人）
E32: （生父國籍：大陸港澳地區0人；外國籍1人）
A33: 死亡人數： | C33: =L25 -> 25 | D33: 人
A34: 結婚對數： | C34: =M25 -> 13 | D34: 對 | E34: （配偶國籍：大陸港澳地區1人；外國籍2人）
A35: 離婚/終止結婚對數： | C35: =N25 -> 5 | D35: 對 | E35: （配偶國籍：大陸港澳地區0人；外國籍0人）
A36: 本月遷入本區人數： | C36: =G25 -> 188 | D36: 人 | E36: 遷出本區人數： | G36: =H25 -> 187 | H36: 人
A37: 本月戶數增加 | C37: 32 | D37: 男增加 | E37: 1 | F37: 女減少 | G37: 18 | I37: 總人口數減少 | K37: 17

Sheet 11402
A1: 高雄市前金區各里人口異動概況
K2: 民國114年2月份
A3: 里別 | B3: 鄰數 | C3: 戶數 | D3: 人 | E3: 口 | F3: 數 | G3: 遷入數 | H3: 遷出數 | I3: 住變入 | J3: 住變出 | K3: 出生數 | L3: 死亡數 | M3: 結婚對數(含相同性別) | N3: 離婚/ 終止結婚 對數
D4: 男 | E4: 女 | F4: 合 計
A5: 三川 | B5: 9 | C5: 580 | D5: 480 | E5: 529 | F5: =SUM(D5:E5) -> 1009 | G5: 12 | H5: 5 | I5: 3 | J5: 1 | K5: 0 | L5: 0 | M5: 1 | N5: 0
A6: 草江 | B6: 9 | C6: 852 | D6: 699 | E6: 826 | F6: =SUM(D6:E6) -> 1525 | G6: 20 | H6: 13 | I6: 6 | J6: 7 | K6: 2 | L6: 3 | M6: 2 | N6: 1
A7: 長城 | B7: 17 | C7: 718 | D7: 670 | E7: 744 | F7: =SUM(D7:E7) -> 1414 | G7: 8 | H7: 5 | I7: 4 | J7: 4 | K7: 0 | L7: 3 | M7: 0 | N7: 0
A8: 北金 | B8: 8 | C8: 434 | D8: 403 | E8: 445 | F8: =SUM(D8:E8) -> 848 | G8: 9 | H8: 11 | I8: 2 | J8: 2 | K8: 0 | L8: 2 | M8: 2 | N8: 0
A9: 東金 | B9: 12 | C9: 535 | D9: 463 | E9: 542 | F9: =SUM(D9:E9) -> 1005 | G9: 7 | H9: 12 | I9: 0 | J9: 3 | K9: 1 | L9: 1 | M9: 0 | N9: 0
A10: 新生 | B10: 28 | C10: 2029 | D10: 1839 | E10: 2123 | F10: =SUM(D10:E10) -> 3962 | G10: 23 | H10: 28 | I10: 7 | J10: 6 | K10: 1 | L10: 6 | M10: 1 | N10: 0
A11: 後金 | B11: 10 | C11: 293 | D11: 328 | E11: 306 | F11: =SUM(D11:E11) -> 634 | G11: 3 | H11: 6 | I11: 1 | J11: 1 | K11: 0 | L11: 2 | M11: 0 | N11: 0
A12: 長興 | B12: 11 | C12: 780 | D12: 623 | E12: 715 | F12: =SUM(D12:E12) -> 1338 | G12: 15 | H12: 11 | I12: 1 | J12: 1 | K12: 0 | L12: 4 | M12: 1 | N12: 0
A13: 青山 | B13: 13 | C13: 1233 | D13: 955 | E13: 1184 | F13: =SUM(D13:E13) -> 2139 | G13: 32 | H13: 20 | I13: 5 | J13: 7 | K13: 1 | L13: 2 | M13: 1 | N13: 0
A14: 民生 | B14: 9 | C14: 516 | D14: 401 | E14: 515 | F14: =SUM(D14:E14) -> 916 | G14: 15 | H14: 9 | I14: 1 | J14: 1 | K14: 0 | L14: 2 | M14: 0 | N14: 0
A15: 復元 | B15: 10 | C15: 567 | D15: 518 | E15: 617 | F15: =SUM(D15:E15) -> 1135 | G15: 9 | H15: 16 | I15: 1 | J15: 3 | K15: 0 | L15: 0 | M15: 0 | N15: 0
A16: 林投 | B16: 13 | C16: 628 | D16: 632 | E16: 497 | F16: =SUM(D16:E16) -> 1129 | G16: 5 | H16: 16 | I16: 1 | J16: 1 | K16: 0 | L16: 4 | M16: 0 | N16: 0
... A24: 文東 | B24: 16 | C24: 595 | D24: 544 | E24: 632 | F24: =SUM(D24:E24) -> 1176 | G24: 8 | H24: 17 | I24: 3 | J24: 4 | K24: 0 | L24: 2 | M24: 0 | N24: 0
A25: 總計 | B25: =SUM(B5:B24) -> 258 | C25: =SUM(C5:C24) -> 14468 | D25: =SUM(D5:D24) -> 12654 | E25: =SUM(E5:E24) -> 14523 | F25: =SUM(F5:F24) -> 27177 | G25: =SUM(G5:G24) -> 276 | H25: =SUM(H5:H24) -> 246 | I25: =SUM(I5:I24) -> 51 | ... N25: =SUM(N5:N24) -> 1
A26: 全區總戶數： | C26: =C25 -> 14468 | D26: 戶 | E26: 全區總人口數： | G26: =F25 -> 27177 | H26: 人 | K26: 共20里
A27: 本區最大里： | C27: =INDIRECT(H27,TRUE) -> 新生 | D27: 里 | E27: =MAX(C5:C24) -> 2029 | F27: =MAX(F5:F24) -> 3962 | H27: =ADDRESS(MATCH(MAX(F5:F24),F5:F24,0)+4,1) -> $A$10
A28: 本區最小里： | C28: =INDIRECT(H28,TRUE) -> 後金 | D28: 里 | E28: =MIN(C5:C24) -> 293 | F28: =MIN(F5:F24) -> 634 | H28: =ADDRESS(MATCH(MIN(F5:F24),F5:F24,0)+4,1) -> $A$11
A29: 原住民人數： | C29: =SUM(G29:G30) -> 153 | D29: 人 | E29: 平地原住民： | G29: 78 | H29: 人
E30: 山地原住民： | G30: 75 | H30: 人
A31: 出生人數： | C31: =K25 -> 7 | D31: 人 | E31: （生母國籍：大陸港澳地區0人；外國籍0人）
E32: （生父國籍：大陸港澳地區0人；外國籍1人）
A33: 死亡人數： | C33: =L25 -> 42 | D33: 人
A34: 結婚對數： | C34: =M25 -> 13 | D34: 對 | E34: （配偶國籍：大陸港澳地區1人；外國籍3人）
A35: 離婚/終止結婚對數： | C35: =N25 -> 1 | D35: 對 | E35: （配偶國籍：大陸港澳地區1人；外國籍0人）
A36: 本月遷入本區人數： | C36: =G25 -> 276 | D36: 人 | E36: 遷出本區人數： | G36: =H25 -> 246 | H36: 人
A37: =IF(C37>0," 本月戶數增加","本月戶數減少") -> 本月戶數增加 | C37: =C25-'11401'!C25 -> 146 | D37: =IF(E37>0,"男增加","男減少") -> 男減少 | E37: =D25-'11401'!D25 -> -11 | F37: =IF(G37>0,"女增加","女減少") -> 女增加 | G37: =E25-'11401'!E25 -> 6 | I37: =IF(K37>0,"總人口數增加","總人口數減少") -> 總人口數減少 | K37: =F25-'11401'!F25 -> -5

Sheet 11403
A1: 高雄市前金區各里人口異動概況
K2: 民國114年3月份
A3: 里別 | B3: 鄰數 | C3: 戶數 | D3: 人 | E3: 口 | F3: 數 | G3: 遷入數 | H3: 遷出數 | I3: 住變入 | J3: 住變出 | K3: 出生數 | L3: 死亡數 | M3: 結婚對數(含相同性別) | N3: 離婚/ 終止結婚 對數
D4: 男 | E4: 女 | F4: 合 計
A5: 三川 | B5: 9 | C5: 592 | D5: 484 | E5: 530 | F5: =SUM(D5:E5) -> 1014 | G5: 14 | H5: 5 | I5: 5 | J5: 8 | K5: 0 | L5: 1 | M5: 3 | N5: 1
A6: 草江 | B6: 9 | C6: 884 | D6: 705 | E6: 843 | F6: =SUM(D6:E6) -> 1548 | G6: 46 | H6: 25 | I6: 7 | J6: 5 | K6: 2 | L6: 2 | M6: 0 | N6: 0
A7: 長城 | B7: 17 | C7: 728 | D7: 676 | E7: 737 | F7: =SUM(D7:E7) -> 1413 | G7: 14 | H7: 12 | I7: 7 | J7: 6 | K7: 0 | L7: 4 | M7: 2 | N7: 0
A8: 北金 | B8: 8 | C8: 437 | D8: 400 | E8: 448 | F8: =SUM(D8:E8) -> 848 | G8: 11 | H8: 7 | I8: 3 | J8: 7 | K8: 0 | L8: 0 | M8: 0 | N8: 0
A9: 東金 | B9: 12 | C9: 550 | D9: 464 | E9: 542 | F9: =SUM(D9:E9) -> 1006 | G9: 16 | H9: 11 | I9: 5 | J9: 7 | K9: 0 | L9: 2 | M9: 0 | N9: 0
A10: 新生 | B10: 28 | C10: 2066 | D10: 1845 | E10: 2135 | F10: =SUM(D10:E10) -> 3980 | G10: 52 | H10: 38 | I10: 14 | J10: 11 | K10: 2 | L10: 1 | M10: 3 | N10: 1
A11: 後金 | B11: 10 | C11: 293 | D11: 327 | E11: 301 | F11: =SUM(D11:E11) -> 628 | G11: 1 | H11: 7 | I11: 1 | J11: 2 | K11: 1 | L11: 0 | M11: 0 | N11: 0
A12: 長興 | B12: 11 | C12: 797 | D12: 627 | E12: 725 | F12: =SUM(D12:E12) -> 1352 | G12: 23 | H12: 12 | I12: 7 | J12: 3 | K12: 1 | L12: 2 | M12: 1 | N12: 1
A13: 青山 | B13: 13 | C13: 1261 | D13: 962 | E13: 1196 | F13: =SUM(D13:E13) -> 2158 | G13: 55 | H13: 31 | I13: 8 | J13: 11 | K13: 0 | L13: 2 | M13: 1 | N13: 1
A14: 民生 | B14: 9 | C14: 525 | D14: 402 | E14: 523 | F14: =SUM(D14:E14) -> 925 | G14: 21 | H14: 8 | I14: 3 | J14: 4 | K14: 1 | L14: 4 | M14: 0 | N14: 0
A15: 復元 | B15: 10 | C15: 570 | D15: 525 | E15: 611 | F15: =SUM(D15:E15) -> 1136 | G15: 13 | H15: 11 | I15: 4 | J15: 3 | K15: 0 | L15: 2 | M15: 0 | N15: 0
A16: 林投 | B16: 13 | C16: 627 | D16: 627 | E16: 496 | F16: =SUM(D16:E16) -> 1123 | G16: 9 | H16: 15 | I16: 6 | J16: 4 | K16: 0 | L16: 2 | M16: 0 | N16: 1
... A24: 文東 | B24: 16 | C24: 596 | D24: 540 | E24: 628 | F24: =SUM(D24:E24) -> 1168 | G24: 9 | H24: 18 | I24: 5 | J24: 3 | K24: 1 | L24: 2 | M24: 2 | N24: 1
A25: 總計 | B25: =SUM(B5:B24) -> 258 | C25: =SUM(C5:C24) -> 14807 | D25: =SUM(D5:D24) -> 12720 | E25: =SUM(E5:E24) -> 14629 | F25: =SUM(F5:F24) -> 27349 | G25: =SUM(G5:G24) -> 522 | H25: =SUM(H5:H24) -> 328 | I25: =SUM(I5:I24) -> 110 | ... N25: =SUM(N5:N24) -> 6
A26: 全區總戶數： | C26: =C25 -> 14807 | D26: 戶 | E26: 全區總人口數： | G26: =F25 -> 27349 | H26: 人 | K26: 共20里
A27: 本區最大里： | C27: =INDIRECT(H27,TRUE) -> 新生 | D27: 里 | E27: =MAX(C5:C24) -> 2066 | F27: =MAX(F5:F24) -> 3980 | H27: =ADDRESS(MATCH(MAX(F5:F24),F5:F24,0)+4,1) -> $A$10
A28: 本區最小里： | C28: =INDIRECT(H28,TRUE) -> 後金 | D28: 里 | E28: =MIN(C5:C24) -> 293 | F28: =MIN(F5:F24) -> 628 | H28: =ADDRESS(MATCH(MIN(F5:F24),F5:F24,0)+4,1) -> $A$11
A29: 原住民人數： | C29: =SUM(G29:G30) -> 153 | D29: 人 | E29: 平地原住民： | G29: 77 | H29: 人
E30: 山地原住民： | G30: 76 | H30: 人
A31: 出生人數： | C31: =K25 -> 12 | D31: 人 | E31: （生母國籍：大陸港澳地區0人；外國籍0人）
E32: （生父國籍：大陸港澳地區0人；外國籍0人）
A33: 死亡人數： | C33: =L25 -> 34 | D33: 人
A34: 結婚對數： | C34: =M25 -> 16 | D34: 對 | E34: （配偶國籍：大陸港澳地區2人；外國籍1人）
A35: 離婚/終止結婚對數： | C35: =N25 -> 6 | D35: 對 | E35: （配偶國籍：大陸港澳地區1人；外國籍0人）
A36: 本月遷入本區人數： | C36: =G25 -> 522 | D36: 人 | E36: 遷出本區人數： | G36: =H25 -> 328 | H36: 人
A37: =IF(C37>0," 本月戶數增加","本月戶數減少") -> 本月戶數增加 | C37: =C25-'11402'!C25 -> 339 | D37: =IF(E37>0,"男增加","男減少") -> 男增加 | E37: =D25-'11402'!D25 -> 66 | F37: =IF(G37>0,"女增加","女減少") -> 女增加 | G37: =E25-'11402'!E25 -> 106 | I37: =IF(K37>0,"總人口數增加","總人口數減少") -> 總人口數增加 | K37: =F25-'11402'!F25 -> 172

Sheet 11404
A1: 高雄市前金區各里人口異動概況
K2: 民國114年4月份
A3: 里別 | B3: 鄰數 | C3: 戶數 | D3: 人 | E3: 口 | F3: 數 | G3: 遷入數 | H3: 遷出數 | I3: 住變入 | J3: 住變出 | K3: 出生數 | L3: 死亡數 | M3: 結婚對數(含相同性別) | N3: 離婚/ 終止結婚 對數
D4: 男 | E4: 女 | F4: 合 計
A5: 三川 | B5: 9 | C5: 592 | D5: 485 | E5: 527 | F5: =SUM(D5:E5) -> 1012 | G5: 3 | H5: 4 | I5: 0 | J5: 0 | K5: 0 | L5: 1 | M5: 1 | N5: 0
A6: 草江 | B6: 9 | C6: 890 | D6: 708 | E6: 844 | F6: =SUM(D6:E6) -> 1552 | G6: 15 | H6: 11 | I6: 0 | J6: 0 | K6: 1 | L6: 1 | M6: 0 | N6: 2
A7: 長城 | B7: 17 | C7: 728 | D7: 676 | E7: 737 | F7: =SUM(D7:E7) -> 1413 | G7: 4 | H7: 3 | I7: 0 | J7: 0 | K7: 0 | L7: 1 | M7: 0 | N7: 0
A8: 北金 | B8: 8 | C8: 438 | D8: 403 | E8: 448 | F8: =SUM(D8:E8) -> 851 | G8: 5 | H8: 2 | I8: 1 | J8: 1 | K8: 0 | L8: 0 | M8: 0 | N8: 0
A9: 東金 | B9: 12 | C9: 551 | D9: 466 | E9: 544 | F9: =SUM(D9:E9) -> 1010 | G9: 10 | H9: 5 | I9: 0 | J9: 2 | K9: 1 | L9: 0 | M9: 0 | N9: 0
A10: 新生 | B10: 28 | C10: 2065 | D10: 1845 | E10: 2137 | F10: =SUM(D10:E10) -> 3982 | G10: 14 | H10: 12 | I10: 3 | J10: 0 | K10: 0 | L10: 3 | M10: 2 | N10: 1
A11: 後金 | B11: 10 | C11: 295 | D11: 327 | E11: 301 | F11: =SUM(D11:E11) -> 628 | G11: 1 | H11: 2 | I11: 1 | J11: 0 | K11: 0 | L11: 0 | M11: 0 | N11: 0
A12: 長興 | B12: 11 | C12: 801 | D12: 629 | E12: 731 | F12: =SUM(D12:E12) -> 1360 | G12: 10 | H12: 2 | I12: 0 | J12: 1 | K12: 3 | L12: 2 | M12: 0 | N12: 0
A13: 青山 | B13: 13 | C13: 1264 | D13: 962 | E13: 1191 | F13: =SUM(D13:E13) -> 2153 | G13: 8 | H13: 11 | I13: 1 | J13: 1 | K13: 0 | L13: 2 | M13: 2 | N13: 1
A14: 民生 | B14: 9 | C14: 528 | D14: 404 | E14: 524 | F14: =SUM(D14:E14) -> 928 | G14: 11 | H14: 6 | I14: 0 | J14: 1 | K14: 0 | L14: 1 | M14: 0 | N14: 0
A15: 復元 | B15: 10 | C15: 573 | D15: 525 | E15: 611 | F15: =SUM(D15:E15) -> 1136 | G15: 2 | H15: 2 | I15: 0 | J15: 0 | K15: 0 | L15: 0 | M15: 0 | N15: 0
A16: 林投 | B16: 13 | C16: 631 | D16: 628 | E16: 499 | F16: =SUM(D16:E16) -> 1127 | G16: 8 | H16: 6 | I16: 4 | J16: 2 | K16: 0 | L16: 0 | M16: 0 | N16: 1
... A24: 文東 | B24: 16 | C24: 594 | D24: 538 | E24: 629 | F24: =SUM(D24:E24) -> 1167 | G24: 3 | H24: 4 | I24: 0 | J24: 0 | K24: 0 | L24: 0 | M24: 0 | N24: 0
A25: 總計 | B25: =SUM(B5:B24) -> 258 | C25: =SUM(C5:C24) -> 14879 | D25: =SUM(D5:D24) -> 12748 | E25: =SUM(E5:E24) -> 14648 | F25: =SUM(F5:F24) -> 27396 | G25: =SUM(G5:G24) -> 191 | H25: =SUM(H5:H24) -> 131 | I25: =SUM(I5:I24) -> 18 | ... N25: =SUM(N5:N24) -> 9
A26: 全區總戶數： | C26: =C25 -> 14879 | D26: 戶 | E26: 全區總人口數： | G26: =F25 -> 27396 | H26: 人 | K26: 共20里
A27: 本區最大里： | C27: =INDIRECT(H27,TRUE) -> 新生 | D27: 里 | E27: =MAX(C5:C24) -> 2065 | F27: =MAX(F5:F24) -> 3982 | H27: =ADDRESS(MATCH(MAX(F5:F24),F5:F24,0)+4,1) -> $A$10
A28: 本區最小里： | C28: =INDIRECT(H28,TRUE) -> 後金 | D28: 里 | E28: =MIN(C5:C24) -> 295 | F28: =MIN(F5:F24) -> 628 | H28: =ADDRESS(MATCH(MIN(F5:F24),F5:F24,0)+4,1) -> $A$11
A29: 原住民人數： | C29: =SUM(G29:G30) -> 155 | D29: 人 | E29: 平地原住民： | G29: 78 | H29: 人
E30: 山地原住民： | G30: 77 | H30: 人
A31: 出生人數： | C31: =K25 -> 8 | D31: 人 | E31: （生母國籍：大陸港澳地區0人；外國籍1人）
E32: （生父國籍：大陸港澳地區0人；外國籍0人）
A33: 死亡人數： | C33: =L25 -> 21 | D33: 人
A34: 結婚對數： | C34: =M25 -> 7 | D34: 對 | E34: （配偶國籍：大陸港澳地區2人；外國籍1人）
A35: 離婚/終止結婚對數： | C35: =N25 -> 9 | D35: 對 | E35: （配偶國籍：大陸港澳地區0人；外國籍0人）
A36: 本月遷入本區人數： | C36: =G25 -> 191 | D36: 人 | E36: 遷出本區人數： | G36: =H25 -> 131 | H36: 人
A37: =IF(C37>0," 本月戶數增加","本月戶數減少") -> 本月戶數增加 | C37: =C25-'11403'!C25 -> 72 | D37: =IF(E37>0,"男增加","男減少") -> 男增加 | E37: =D25-'11403'!D25 -> 28 | F37: =IF(G37>0,"女增加","女減少") -> 女增加 | G37: =E25-'11403'!E25 -> 19 | I37: =IF(K37>0,"總人口數增加","總人口數減少") -> 總人口數增加 | K37: =F25-'11403'!F25 -> 47

Sheet 11405
A1: 高雄市前金區各里人口異動概況
K2: 民國114年5月份
A3: 里別 | B3: 鄰數 | C3: 戶數 | D3: 人 | E3: 口 | F3: 數 | G3: 遷入數 | H3: 遷出數 | I3: 住變入 | J3: 住變出 | K3: 出生數 | L3: 死亡數 | M3: 結婚對數(含相同性別) | N3: 離婚/ 終止結婚 對數
D4: 男 | E4: 女 | F4: 合 計
A5: 三川 | B5: 9 | C5: 605 | D5: 485 | E5: 535 | F5: =SUM(D5:E5) -> 1020 | G5: 20 | H5: 11 | I5: 2 | J5: 4 | K5: 1 | L5: 0 | M5: 3 | N5: 0
A6: 草江 | B6: 9 | C6: 920 | D6: 716 | E6: 861 | F6: =SUM(D6:E6) -> 1577 | G6: 41 | H6: 15 | I6: 6 | J6: 7 | K6: 1 | L6: 1 | M6: 1 | N6: 0
A7: 長城 | B7: 17 | C7: 730 | D7: 677 | E7: 732 | F7: =SUM(D7:E7) -> 1409 | G7: 8 | H7: 13 | I7: 5 | J7: 4 | K7: 1 | L7: 1 | M7: 1 | N7: 1
A8: 北金 | B8: 8 | C8: 442 | D8: 409 | E8: 444 | F8: =SUM(D8:E8) -> 853 | G8: 9 | H8: 8 | I8: 2 | J8: 1 | K8: 0 | L8: 0 | M8: 0 | N8: 0
A9: 東金 | B9: 12 | C9: 559 | D9: 469 | E9: 548 | F9: =SUM(D9:E9) -> 1017 | G9: 16 | H9: 8 | I9: 4 | J9: 5 | K9: 0 | L9: 0 | M9: 1 | N9: 0
A10: 新生 | B10: 28 | C10: 2087 | D10: 1845 | E10: 2134 | F10: =SUM(D10:E10) -> 3979 | G10: 33 | H10: 26 | I10: 1 | J10: 8 | K10: 1 | L10: 4 | M10: 0 | N10: 0
A11: 後金 | B11: 10 | C11: 294 | D11: 325 | E11: 300 | F11: =SUM(D11:E11) -> 625 | G11: 1 | H11: 3 | I11: 0 | J11: 1 | K11: 0 | L11: 0 | M11: 1 | N11: 0
A12: 長興 | B12: 11 | C12: 812 | D12: 630 | E12: 734 | F12: =SUM(D12:E12) -> 1364 | G12: 11 | H12: 11 | I12: 8 | J12: 4 | K12: 2 | L12: 2 | M12: 1 | N12: 1
A13: 青山 | B13: 13 | C13: 1290 | D13: 974 | E13: 1207 | F13: =SUM(D13:E13) -> 2181 | G13: 39 | H13: 11 | I13: 3 | J13: 3 | K13: 1 | L13: 1 | M13: 1 | N13: 0
A14: 民生 | B14: 9 | C14: 535 | D14: 399 | E14: 530 | F14: =SUM(D14:E14) -> 929 | G14: 14 | H14: 12 | I14: 4 | J14: 5 | K14: 0 | L14: 0 | M14: 1 | N14: 0
A15: 復元 | B15: 10 | C15: 578 | D15: 528 | E15: 610 | F15: =SUM(D15:E15) -> 1138 | G15: 9 | H15: 6 | I15: 3 | J15: 4 | K15: 0 | L15: 0 | M15: 0 | N15: 0
A16: 林投 | B16: 13 | C16: 634 | D16: 625 | E16: 504 | F16: =SUM(D16:E16) -> 1129 | G16: 7 | H16: 8 | I16: 4 | J16: 1 | K16: 0 | L16: 0 | M16: 1 | N16: 0
... A24: 文東 | B24: 16 | C24: 601 | D24: 538 | E24: 632 | F24: =SUM(D24:E24) -> 1170 | G24: 12 | H24: 9 | I24: 1 | J24: 0 | K24: 0 | L24: 1 | M24: 1 | N24: 0
A25: 總計 | B25: =SUM(B5:B24) -> 258 | C25: =SUM(C5:C24) -> 15226 | D25: =SUM(D5:D24) -> 12861 | E25: =SUM(E5:E24) -> 14770 | F25: =SUM(F5:F24) -> 27631 | G25: =SUM(G5:G24) -> 490 | H25: =SUM(H5:H24) -> 245 | I25: =SUM(I5:I24) -> 67 | ... N25: =SUM(N5:N24) -> 3
A26: 全區總戶數： | C26: =C25 -> 15226 | D26: 戶 | E26: 全區總人口數： | G26: =F25 -> 27631 | H26: 人 | K26: 共20里
A27: 本區最大里： | C27: =INDIRECT(H27,TRUE) -> 新生 | D27: 里 | E27: =MAX(C5:C24) -> 2087 | F27: =MAX(F5:F24) -> 3979 | H27: =ADDRESS(MATCH(MAX(F5:F24),F5:F24,0)+4,1) -> $A$10
A28: 本區最小里： | C28: =INDIRECT(H28,TRUE) -> 後金 | D28: 里 | E28: =MIN(C5:C24) -> 294 | F28: =MIN(F5:F24) -> 625 | H28: =ADDRESS(MATCH(MIN(F5:F24),F5:F24,0)+4,1) -> $A$11
A29: 原住民人數： | C29: =G29+G30 -> 156 | D29: 人 | E29: 平地原住民： | G29: 81 | H29: 人
E30: 山地原住民： | G30: 75 | H30: 人
A31: 出生人數： | C31: =K25 -> 7 | D31: 人 | E31: （生母國籍：大陸港澳地區0人；外國籍2人）
E32: （生父國籍：大陸港澳地區0人；外國籍0人）
A33: 死亡人數： | C33: =L25 -> 17 | D33: 人
A34: 結婚對數： | C34: =M25 -> 16 | D34: 對 | E34: （配偶國籍：大陸港澳地區2人；外國籍4人）
A35: 離婚/終止結婚對數： | C35: =N25 -> 3 | D35: 對 | E35: （配偶國籍：大陸港澳地區1人；外國籍1人）
A36: 本月遷入本區人數： | C36: =G25 -> 490 | D36: 人 | E36: 遷出本區人數： | G36: =H25 -> 245 | H36: 人
A37: =IF(C37>0," 本月戶數增加","本月戶數減少") -> 本月戶數增加 | C37: =C25-'11404'!C25 -> 347 | D37: =IF(E37>0,"男增加","男減少") -> 男增加 | E37: =D25-'11404'!D25 -> 113 | F37: =IF(G37>0,"女增加","女減少") -> 女增加 | G37: =E25-'11404'!E25 -> 122 | I37: =IF(K37>0,"總人口數增加","總人口數減少") -> 總人口數增加 | K37: =F25-'11404'!F25 -> 235

Sheet 11406
A1: 高雄市前金區各里人口異動概況
K2: 民國114年6月份
A3: 里別 | B3: 鄰數 | C3: 戶數 | D3: 人 | E3: 口 | F3: 數 | G3: 遷入數 | H3: 遷出數 | I3: 住變入 | J3: 住變出 | K3: 出生數 | L3: 死亡數 | M3: 結婚對數(含相同性別) | N3: 離婚/ 終止結婚 對數
D4: 男 | E4: 女 | F4: 合 計
A5: 三川 | B5: 9 | C5: 609 | D5: 488 | E5: 534 | F5: =SUM(D5:E5) -> 1022 | G5: 6 | H5: 1 | I5: 1 | J5: 2 | K5: 0 | L5: 2 | M5: 0 | N5: 0
A6: 草江 | B6: 9 | C6: 920 | D6: 708 | E6: 862 | F6: =SUM(D6:E6) -> 1570 | G6: 10 | H6: 14 | I6: 0 | J6: 1 | K6: 1 | L6: 3 | M6: 1 | N6: 0
A7: 長城 | B7: 17 | C7: 731 | D7: 679 | E7: 729 | F7: =SUM(D7:E7) -> 1408 | G7: 5 | H7: 2 | I7: 0 | J7: 3 | K7: 0 | L7: 1 | M7: 0 | N7: 1
A8: 北金 | B8: 8 | C8: 442 | D8: 407 | E8: 446 | F8: =SUM(D8:E8) -> 853 | G8: 5 | H8: 5 | I8: 0 | J8: 0 | K8: 0 | L8: 0 | M8: 0 | N8: 0
A9: 東金 | B9: 12 | C9: 563 | D9: 471 | E9: 549 | F9: =SUM(D9:E9) -> 1020 | G9: 6 | H9: 2 | I9: 0 | J9: 0 | K9: 0 | L9: 1 | M9: 1 | N9: 0
A10: 新生 | B10: 28 | C10: 2082 | D10: 1836 | E10: 2124 | F10: =SUM(D10:E10) -> 3960 | G10: 8 | H10: 22 | I10: 2 | J10: 2 | K10: 1 | L10: 6 | M10: 0 | N10: 1
A11: 後金 | B11: 10 | C11: 294 | D11: 324 | E11: 299 | F11: =SUM(D11:E11) -> 623 | G11: 2 | H11: 3 | I11: 0 | J11: 0 | K11: 0 | L11: 1 | M11: 0 | N11: 0
A12: 長興 | B12: 11 | C12: 815 | D12: 630 | E12: 736 | F12: =SUM(D12:E12) -> 1366 | G12: 9 | H12: 4 | I12: 1 | J12: 2 | K12: 0 | L12: 2 | M12: 2 | N12: 0
A13: 青山 | B13: 13 | C13: 1293 | D13: 981 | E13: 1207 | F13: =SUM(D13:E13) -> 2188 | G13: 17 | H13: 9 | I13: 1 | J13: 2 | K13: 0 | L13: 0 | M13: 0 | N13: 1
A14: 民生 | B14: 9 | C14: 535 | D14: 398 | E14: 529 | F14: =SUM(D14:E14) -> 927 | G14: 4 | H14: 2 | I14: 0 | J14: 2 | K14: 0 | L14: 2 | M14: 1 | N14: 0
A15: 復元 | B15: 10 | C15: 582 | D15: 530 | E15: 610 | F15: =SUM(D15:E15) -> 1140 | G15: 5 | H15: 3 | I15: 3 | J15: 2 | K15: 0 | L15: 1 | M15: 1 | N15: 0
A16: 林投 | B16: 13 | C16: 641 | D16: 632 | E16: 503 | F16: =SUM(D16:E16) -> 1135 | G16: 5 | H16: 5 | I16: 8 | J16: 0 | K16: 0 | L16: 2 | M16: 0 | N16: 0
... A24: 文東 | B24: 16 | C24: 602 | D24: 538 | E24: 627 | F24: =SUM(D24:E24) -> 1165 | G24: 2 | H24: 4 | I24: 1 | J24: 2 | K24: 0 | L24: 2 | M24: 0 | N24: 0
A25: 總計 | B25: =SUM(B5:B24) -> 258 | C25: =SUM(C5:C24) -> 15263 | D25: =SUM(D5:D24) -> 12869 | E25: =SUM(E5:E24) -> 14767 | F25: =SUM(F5:F24) -> 27636 | G25: =SUM(G5:G24) -> 140 | H25: =SUM(H5:H24) -> 104 | I25: =SUM(I5:I24) -> 33 | ... N25: =SUM(N5:N24) -> 3
A26: 全區總戶數： | C26: =C25 -> 15263 | D26: 戶 | E26: 全區總人口數： | G26: =F25 -> 27636 | H26: 人 | K26: 共20里
A27: 本區最大里： | C27: =INDIRECT(H27,TRUE) -> 新生 | D27: 里 | E27: =MAX(C5:C24) -> 2082 | F27: =MAX(F5:F24) -> 3960 | H27: =ADDRESS(MATCH(MAX(F5:F24),F5:F24,0)+4,1) -> $A$10
A28: 本區最小里： | C28: =INDIRECT(H28,TRUE) -> 後金 | D28: 里 | E28: =MIN(C5:C24) -> 294 | F28: =MIN(F5:F24) -> 623 | H28: =ADDRESS(MATCH(MIN(F5:F24),F5:F24,0)+4,1) -> $A$11
A29: 原住民人數： | C29: =SUM(G29:G30) -> 159 | D29: 人 | E29: 平地原住民： | G29: 83 | H29: 人
E30: 山地原住民： | G30: 76 | H30: 人
A31: 出生人數： | C31: =K25 -> 4 | D31: 人 | E31: （生母國籍：大陸港澳地區0人；外國籍0人）
E32: （生父國籍：大陸港澳地區0人；外國籍0人）
A33: 死亡人數： | C33: =L25 -> 35 | D33: 人
A34: 結婚對數： | C34: =M25 -> 11 | D34: 對 | E34: （配偶國籍：大陸港澳地區0人；外國籍2人）
A35: 離婚/終止結婚對數： | C35: =N25 -> 3 | D35: 對 | E35: （配偶國籍：大陸港澳地區1人；外國籍0人）
A36: 本月遷入本區人數： | C36: =G25 -> 140 | D36: 人 | E36: 遷出本區人數： | G36: =H25 -> 104 | H36: 人
A37: =IF(C37>0," 本月戶數增加","本月戶數減少") -> 本月戶數增加 | C37: =C25-'11405'!C25 -> 37 | D37: =IF(E37>0,"男增加","男減少") -> 男增加 | E37: =D25-'11405'!D25 -> 8 | F37: =IF(G37>0,"女增加","女減少") -> 女減少 | G37: =E25-'11405'!E25 -> -3 | I37: =IF(K37>0,"總人口數增加","總人口數減少") -> 總人口數增加 | K37: =F25-'11405'!F25 -> 5

Sheet 11407
A1: 高雄市前金區各里人口異動概況
K2: 民國114年7月份
A3: 里別 | B3: 鄰數 | C3: 戶數 | D3: 人 | E3: 口 | F3: 數 | G3: 遷入數 | H3: 遷出數 | I3: 住變入 | J3: 住變出 | K3: 出生數 | L3: 死亡數 | M3: 結婚對數(含相同性別) | N3: 離婚/ 終止結婚 對數
D4: 男 | E4: 女 | F4: 合 計
A5: 三川 | B5: 9 | C5: 608 | D5: 490 | E5: 535 | F5: =SUM(D5:E5) -> 1025 | G5: 3 | H5: 1 | I5: 0 | J5: 0 | K5: 3 | L5: 2 | M5: 2 | N5: 0
A6: 草江 | B6: 9 | C6: 919 | D6: 714 | E6: 859 | F6: =SUM(D6:E6) -> 1573 | G6: 7 | H6: 8 | I6: 3 | J6: 0 | K6: 3 | L6: 2 | M6: 0 | N6: 0
A7: 長城 | B7: 17 | C7: 729 | D7: 678 | E7: 725 | F7: =SUM(D7:E7) -> 1403 | G7: 3 | H7: 4 | I7: 3 | J7: 5 | K7: 0 | L7: 2 | M7: 0 | N7: 0
A8: 北金 | B8: 8 | C8: 442 | D8: 406 | E8: 447 | F8: =SUM(D8:E8) -> 853 | G8: 5 | H8: 3 | I8: 0 | J8: 1 | K8: 0 | L8: 1 | M8: 0 | N8: 0
A9: 東金 | B9: 12 | C9: 564 | D9: 474 | E9: 551 | F9: =SUM(D9:E9) -> 1025 | G9: 8 | H9: 2 | I9: 0 | J9: 0 | K9: 0 | L9: 1 | M9: 0 | N9: 0
A10: 新生 | B10: 28 | C10: 2084 | D10: 1835 | E10: 2125 | F10: =SUM(D10:E10) -> 3960 | G10: 19 | H10: 14 | I10: 2 | J10: 3 | K10: 1 | L10: 5 | M10: 1 | N10: 0
A11: 後金 | B11: 10 | C11: 293 | D11: 324 | E11: 298 | F11: =SUM(D11:E11) -> 622 | G11: 1 | H11: 2 | I11: 0 | J11: 0 | K11: 0 | L11: 0 | M11: 0 | N11: 0
A12: 長興 | B12: 11 | C12: 814 | D12: 628 | E12: 736 | F12: =SUM(D12:E12) -> 1364 | G12: 4 | H12: 3 | I12: 6 | J12: 7 | K12: 0 | L12: 2 | M12: 0 | N12: 0
A13: 青山 | B13: 13 | C13: 1292 | D13: 976 | E13: 1206 | F13: =SUM(D13:E13) -> 2182 | G13: 13 | H13: 15 | I13: 2 | J13: 4 | K13: 1 | L13: 3 | M13: 3 | N13: 0
A14: 民生 | B14: 9 | C14: 536 | D14: 397 | E14: 527 | F14: =SUM(D14:E14) -> 924 | G14: 3 | H14: 5 | I14: 0 | J14: 0 | K14: 0 | L14: 1 | M14: 0 | N14: 0
A15: 復元 | B15: 10 | C15: 583 | D15: 527 | E15: 606 | F15: =SUM(D15:E15) -> 1133 | G15: 5 | H15: 7 | I15: 1 | J15: 5 | K15: 0 | L15: 1 | M15: 0 | N15: 0
A16: 林投 | B16: 13 | C16: 646 | D16: 635 | E16: 510 | F16: =SUM(D16:E16) -> 1145 | G16: 2 | H16: 4 | I16: 14 | J16: 1 | K16: 0 | L16: 1 | M16: 1 | N16: 0
... A24: 文東 | B24: 16 | C24: 599 | D24: 535 | E24: 626 | F24: =SUM(D24:E24) -> 1161 | G24: 4 | H24: 6 | I24: 0 | J24: 1 | K24: 1 | L24: 2 | M24: 0 | N24: 0
A25: 總計 | B25: =SUM(B5:B24) -> 258 | C25: =SUM(C5:C24) -> 15251 | D25: =SUM(D5:D24) -> 12857 | E25: =SUM(E5:E24) -> 14757 | F25: =SUM(F5:F24) -> 27614 | G25: =SUM(G5:G24) -> 115 | H25: =SUM(H5:H24) -> 118 | I25: =SUM(I5:I24) -> 38 | ... N25: =SUM(N5:N24) -> 2
A26: 全區總戶數： | C26: =C25 -> 15251 | D26: 戶 | E26: 全區總人口數： | G26: =F25 -> 27614 | H26: 人 | K26: 共20里
A27: 本區最大里： | C27: =INDIRECT(H27,TRUE) -> 新生 | D27: 里 | E27: =MAX(C5:C24) -> 2084 | F27: =MAX(F5:F24) -> 3960 | H27: =ADDRESS(MATCH(MAX(F5:F24),F5:F24,0)+4,1) -> $A$10
A28: 本區最小里： | C28: =INDIRECT(H28,TRUE) -> 後金 | D28: 里 | E28: =MIN(C5:C24) -> 293 | F28: =MIN(F5:F24) -> 622 | H28: =ADDRESS(MATCH(MIN(F5:F24),F5:F24,0)+4,1) -> $A$11
A29: 原住民人數： | C29: =G29+G30 -> 161 | D29: 人 | E29: 平地原住民： | G29: 84 | H29: 人
E30: 山地原住民： | G30: 77 | H30: 人
A31: 出生人數： | C31: =K25 -> 13 | D31: 人 | E31: （生母國籍：大陸港澳地區1人；外國籍1人）
E32: （生父國籍：大陸港澳地區0人；外國籍0人）
A33: 死亡人數： | C33: =L25 -> 32 | D33: 人
A34: 結婚對數： | C34: =M25 -> 10 | D34: 對 | E34: （配偶國籍：大陸港澳地區0人；外國籍3人）
A35: 離婚/終止結婚對數： | C35: =N25 -> 2 | D35: 對 | E35: （配偶國籍：大陸港澳地區0人；外國籍0人）
A36: 本月遷入本區人數： | C36: =G25 -> 115 | D36: 人 | E36: 遷出本區人數： | G36: =H25 -> 118 | H36: 人
A37: =IF(C37>0," 本月戶數增加","本月戶數減少") -> 本月戶數減少 | C37: =C25-'11406'!C25 -> -12 | D37: =IF(E37>0,"男增加","男減少") -> 男減少 | E37: =D25-'11406'!D25 -> -12 | F37: =IF(G37>0,"女增加","女減少") -> 女減少 | G37: =E25-'11406'!E25 -> -10 | I37: =IF(K37>0,"總人口數增加","總人口數減少") -> 總人口數減少 | K37: =F25-'11406'!F25 -> -22

Sheet 11408
A1: 高雄市前金區各里人口異動概況
K2: 民國114年8月份
A3: 里別 | B3: 鄰數 | C3: 戶數 | D3: 人 | E3: 口 | F3: 數 | G3: 遷入數 | H3: 遷出數 | I3: 住變入 | J3: 住變出 | K3: 出生數 | L3: 死亡數 | M3: 結婚對數(含相同性別) | N3: 離婚/ 終止結婚 對數
D4: 男 | E4: 女 | F4: 合 計
A5: 三川 | B5: 9 | C5: 607 | D5: 489 | E5: 533 | F5: =SUM(D5:E5) -> 1022 | G5: 1 | H5: 6 | I5: 2 | J5: 0 | K5: 0 | L5: 0 | M5: 0 | N5: 0
A6: 草江 | B6: 9 | C6: 919 | D6: 716 | E6: 856 | F6: =SUM(D6:E6) -> 1572 | G6: 7 | H6: 10 | I6: 1 | J6: 0 | K6: 1 | L6: 0 | M6: 0 | N6: 0
A7: 長城 | B7: 17 | C7: 726 | D7: 674 | E7: 719 | F7: =SUM(D7:E7) -> 1393 | G7: 4 | H7: 11 | I7: 0 | J7: 0 | K7: 0 | L7: 3 | M7: 0 | N7: 0
A8: 北金 | B8: 8 | C8: 444 | D8: 406 | E8: 445 | F8: =SUM(D8:E8) -> 851 | G8: 3 | H8: 4 | I8: 2 | J8: 2 | K8: 1 | L8: 2 | M8: 0 | N8: 0
A9: 東金 | B9: 12 | C9: 563 | D9: 473 | E9: 550 | F9: =SUM(D9:E9) -> 1023 | G9: 7 | H9: 9 | I9: 0 | J9: 0 | K9: 0 | L9: 0 | M9: 0 | N9: 0
A10: 新生 | B10: 28 | C10: 2089 | D10: 1842 | E10: 2130 | F10: =SUM(D10:E10) -> 3972 | G10: 31 | H10: 21 | I10: 2 | J10: 0 | K10: 0 | L10: 0 | M10: 1 | N10: 0
A11: 後金 | B11: 10 | C11: 292 | D11: 322 | E11: 298 | F11: =SUM(D11:E11) -> 620 | G11: 2 | H11: 2 | I11: 0 | J11: 0 | K11: 0 | L11: 2 | M11: 2 | N11: 0
A12: 長興 | B12: 11 | C12: 816 | D12: 631 | E12: 735 | F12: =SUM(D12:E12) -> 1366 | G12: 5 | H12: 2 | I12: 1 | J12: 2 | K12: 0 | L12: 0 | M12: 0 | N12: 0
A13: 青山 | B13: 13 | C13: 1297 | D13: 983 | E13: 1215 | F13: =SUM(D13:E13) -> 2198 | G13: 21 | H13: 9 | I13: 6 | J13: 2 | K13: 0 | L13: 0 | M13: 2 | N13: 1
A14: 民生 | B14: 9 | C14: 537 | D14: 397 | E14: 528 | F14: =SUM(D14:E14) -> 925 | G14: 4 | H14: 4 | I14: 0 | J14: 0 | K14: 1 | L14: 0 | M14: 0 | N14: 0
A15: 復元 | B15: 10 | C15: 581 | D15: 526 | E15: 604 | F15: =SUM(D15:E15) -> 1130 | G15: 1 | H15: 5 | I15: 0 | J15: 0 | K15: 1 | L15: 0 | M15: 2 | N15: 0
A16: 林投 | B16: 13 | C16: 646 | D16: 632 | E16: 513 | F16: =SUM(D16:E16) -> 1145 | G16: 5 | H16: 4 | I16: 1 | J16: 0 | K16: 1 | L16: 3 | M16: 1 | N16: 0
... A24: 文東 | B24: 16 | C24: 597 | D24: 535 | E24: 624 | F24: =SUM(D24:E24) -> 1159 | G24: 4 | H24: 5 | I24: 2 | J24: 4 | K24: 1 | L24: 0 | M24: 0 | N24: 0
A25: 總計 | B25: =SUM(B5:B24) -> 258 | C25: =SUM(C5:C24) -> 15263 | D25: =SUM(D5:D24) -> 12865 | E25: =SUM(E5:E24) -> 14752 | F25: =SUM(F5:F24) -> 27617 | G25: =SUM(G5:G24) -> 155 | H25: =SUM(H5:H24) -> 139 | I25: =SUM(I5:I24) -> 27 | ... N25: =SUM(N5:N24) -> 2
A26: 全區總戶數： | C26: =C25 -> 15263 | D26: 戶 | E26: 全區總人口數： | G26: =F25 -> 27617 | H26: 人 | K26: 共20里
A27: 本區最大里： | C27: =INDIRECT(H27,TRUE) -> 新生 | D27: 里 | E27: =MAX(C5:C24) -> 2089 | F27: =MAX(F5:F24) -> 3972 | H27: =ADDRESS(MATCH(MAX(F5:F24),F5:F24,0)+4,1) -> $A$10
A28: 本區最小里： | C28: =INDIRECT(H28,TRUE) -> 後金 | D28: 里 | E28: =MIN(C5:C24) -> 292 | F28: =MIN(F5:F24) -> 620 | H28: =ADDRESS(MATCH(MIN(F5:F24),F5:F24,0)+4,1) -> $A$11
A29: 原住民人數： | C29: =G29+G30 -> 163 | D29: 人 | E29: 平地原住民： | G29: 84 | H29: 人
E30: 山地原住民： | G30: 79 | H30: 人
A31: 出生人數： | C31: =K25 -> 9 | D31: 人 | E31: （生母國籍：大陸港澳地區0人；外國籍0人）
E32: （生父國籍：大陸港澳地區1人；外國籍0人）
A33: 死亡人數： | C33: =L25 -> 22 | D33: 人
A34: 結婚對數： | C34: =M25 -> 10 | D34: 對 | E34: （配偶國籍：大陸港澳地區1人；外國籍2人）
A35: 離婚/終止結婚對數： | C35: =N25 -> 2 | D35: 對 | E35: （配偶國籍：大陸港澳地區0人；外國籍0人）
A36: 本月遷入本區人數： | C36: =G25 -> 155 | D36: 人 | E36: 遷出本區人數： | G36: =H25 -> 139 | H36: 人
A37: =IF(C37>0," 本月戶數增加","本月戶數減少") -> 本月戶數增加 | C37: =C25-'11407'!C25 -> 12 | D37: =IF(E37>0,"男增加","男減少") -> 男增加 | E37: =D25-'11407'!D25 -> 8 | F37: =IF(G37>0,"女增加","女減少") -> 女減少 | G37: =E25-'11407'!E25 -> -5 | I37: =IF(K37>0,"總人口數增加","總人口數減少") -> 總人口數增加 | K37: =F25-'11407'!F25 -> 3

Sheet 11409
A1: 高雄市前金區各里人口異動概況
K2: 民國114年9月份
A3: 里別 | B3: 鄰數 | C3: 戶數 | D3: 人 | E3: 口 | F3: 數 | G3: 遷入數 | H3: 遷出數 | I3: 住變入 | J3: 住變出 | K3: 出生數 | L3: 死亡數 | M3: 結婚對數(含相同性別) | N3: 離婚/ 終止結婚 對數
D4: 男 | E4: 女 | F4: 合 計
A5: 三川 | B5: 9 | C5: 605 | D5: 485 | E5: 534 | F5: =SUM(D5:E5) -> 1019 | G5: 2 | H5: 3 | I5: 1 | J5: 2 | K5: 0 | L5: 1 | M5: 0 | N5: 0
A6: 草江 | B6: 9 | C6: 920 | D6: 718 | E6: 857 | F6: =SUM(D6:E6) -> 1575 | G6: 8 | H6: 4 | I6: 3 | J6: 1 | K6: 1 | L6: 4 | M6: 1 | N6: 0
A7: 長城 | B7: 17 | C7: 725 | D7: 674 | E7: 719 | F7: =SUM(D7:E7) -> 1393 | G7: 6 | H7: 5 | I7: 2 | J7: 3 | K7: 0 | M7: 0 | N7: 1
A8: 北金 | B8: 8 | C8: 445 | D8: 413 | E8: 445 | F8: =SUM(D8:E8) -> 858 | G8: 11 | H8: 5 | I8: 1 | J8: 0 | K8: 0 | L8: 0 | M8: 0 | N8: 0
A9: 東金 | B9: 12 | C9: 563 | D9: 471 | E9: 552 | F9: =SUM(D9:E9) -> 1023 | G9: 3 | H9: 4 | I9: 1 | J9: 1 | K9: 1 | L9: 0 | M9: 0 | N9: 0
A10: 新生 | B10: 28 | C10: 2092 | D10: 1843 | E10: 2134 | F10: =SUM(D10:E10) -> 3977 | G10: 24 | H10: 18 | I10: 4 | J10: 5 | K10: 2 | L10: 2 | M10: 0 | N10: 0
A11: 後金 | B11: 10 | C11: 293 | D11: 321 | E11: 297 | F11: =SUM(D11:E11) -> 618 | G11: 2 | H11: 5 | I11: 0 | J11: 0 | K11: 1 | L11: 0 | M11: 0 | N11: 0
A12: 長興 | B12: 11 | C12: 817 | D12: 629 | E12: 740 | F12: =SUM(D12:E12) -> 1369 | G12: 6 | H12: 3 | I12: 2 | J12: 0 | K12: 0 | L12: 2 | M12: 0 | N12: 1
A13: 青山 | B13: 13 | C13: 1307 | D13: 987 | E13: 1220 | F13: =SUM(D13:E13) -> 2207 | G13: 13 | H13: 5 | I13: 4 | J13: 3 | K13: 0 | L13: 0 | M13: 0 | N13: 0
A14: 民生 | B14: 9 | C14: 538 | D14: 400 | E14: 527 | F14: =SUM(D14:E14) -> 927 | G14: 5 | H14: 3 | I14: 0 | J14: 0 | K14: 1 | L14: 1 | M14: 0 | N14: 0
A15: 復元 | B15: 10 | C15: 579 | D15: 525 | E15: 605 | F15: =SUM(D15:E15) -> 1130 | G15: 5 | H15: 4 | I15: 0 | J15: 1 | K15: 0 | L15: 0 | M15: 0 | N15: 1
A16: 林投 | B16: 13 | C16: 642 | D16: 632 | E16: 506 | F16: =SUM(D16:E16) -> 1138 | G16: 2 | H16: 10 | I16: 4 | J16: 2 | K16: 0 | L16: 1 | M16: 1 | N16: 0
A17: 國民 | B17: 9 | C17: 554 | D17: 491 | E17: 498 | F17: =SUM(D17:E17) -> 989 | G17: 7 | H17: 12 | I17: 2 | J17: 2 | K17: 0 | L17: 2 | M17: 0 | N17: 0
A18: 社東 | B18: 18 | C18: 776 | D18: 679 | E18: 858 | F18: =SUM(D18:E18) -> 1537 | G18: 5 | H18: 11 | I18: 2 | J18: 0 | K18: 1 | L18: 2 | M18: 0 | N18: 0
A19: 社西 | B19: 11 | C19: 1144 | D19: 769 | E19: 953 | F19: =SUM(D19:E19) -> 1722 | G19: 17 | H19: 12 | I19: 2 | J19: 2 | K19: 0 | L19: 0 | M19: 1 | N19: 0
... A24: 文東 | B24: 16 | C24: 598 | D24: 534 | E24: 624 | F24: =SUM(D24:E24) -> 1158 | G24: 4 | H24: 3 | I24: 1 | J24: 2 | K24: 0 | L24: 1 | M24: 0 | N24: 1
A25: 總計 | B25: =SUM(B5:B24) -> 258 | C25: =SUM(C5:C24) -> 15274 | D25: =SUM(D5:D24) -> 12869 | E25: =SUM(E5:E24) -> 14739 | F25: =SUM(F5:F24) -> 27608 | G25: =SUM(G5:G24) -> 146 | H25: =SUM(H5:H24) -> 142 | I25: =SUM(I5:I24) -> 34 | ... N25: =SUM(N5:N24) -> 5
A26: 全區總戶數： | C26: =C25 -> 15274 | D26: 戶 | E26: 全區總人口數： | G26: =F25 -> 27608 | H26: 人 | K26: 共20里
A27: 本區最大里： | C27: =INDIRECT(H27,TRUE) -> 新生 | D27: 里 | E27: =MAX(C5:C24) -> 2092 | F27: =MAX(F5:F24) -> 3977 | H27: =ADDRESS(MATCH(MAX(F5:F24),F5:F24,0)+4,1) -> $A$10
A28: 本區最小里： | C28: =INDIRECT(H28,TRUE) -> 後金 | D28: 里 | E28: =MIN(C5:C24) -> 293 | F28: =MIN(F5:F24) -> 618 | H28: =ADDRESS(MATCH(MIN(F5:F24),F5:F24,0)+4,1) -> $A$11
A29: 原住民人數： | C29: =SUM(G29:G30) -> 164 | D29: 人 | E29: 平地原住民： | G29: 85 | H29: 人
E30: 山地原住民： | G30: 79 | H30: 人
A31: 出生人數： | C31: =K25 -> 8 | D31: 人 | E31: （生母國籍：大陸港澳地區0人；外國籍0人）
E32: （生父國籍：大陸港澳地區0人；外國籍0人）
A33: 死亡人數： | C33: =L25 -> 21 | D33: 人
A34: 結婚對數： | C34: =M25 -> 3 | D34: 對 | E34: （配偶國籍：大陸港澳地區0人；外國籍0人）
A35: 離婚/終止結婚對數： | C35: =N25 -> 5 | D35: 對 | E35: （配偶國籍：大陸港澳地區0人；外國籍0人）
A36: 本月遷入本區人數： | C36: =G25 -> 146 | D36: 人 | E36: 遷出本區人數： | G36: =H25 -> 142 | H36: 人
A37: =IF(C37>0," 本月戶數增加","本月戶數減少") -> 本月戶數增加 | C37: =C25-'11408'!C25 -> 11 | D37: =IF(E37>0,"男增加","男減少") -> 男增加 | E37: =D25-'11408'!D25 -> 4 | F37: =IF(G37>0,"女增加","女減少") -> 女減少 | G37: =E25-'11408'!E25 -> -13 | I37: =IF(K37>0,"總人口數增加","總人口數減少") -> 總人口數減少 | K37: =F25-'11408'!F25 -> -9

Sheet 11410
A1: 高雄市前金區各里人口異動概況
K2: 民國114年10月份
A3: 里別 | B3: 鄰數 | C3: 戶數 | D3: 人 | E3: 口 | F3: 數 | G3: 遷入數 | H3: 遷出數 | I3: 住變入 | J3: 住變出 | K3: 出生數 | L3: 死亡數 | M3: 結婚對數(含相同性別) | N3: 離婚/ 終止結婚 對數
D4: 男 | E4: 女 | F4: 合 計
A5: 三川 | B5: 9 | C5: 604 | D5: 486 | E5: 538 | F5: =SUM(D5:E5) -> 1024 | G5: 6 | H5: 1 | I5: 4 | J5: 4 | K5: 1 | L5: 1 | M5: 0 | N5: 0
A6: 草江 | B6: 9 | C6: 916 | D6: 716 | E6: 856 | F6: =SUM(D6:E6) -> 1572 | G6: 3 | H6: 7 | I6: 3 | J6: 3 | K6: 1 | L6: 0 | M6: 1 | N6: 0
A7: 長城 | B7: 17 | C7: 723 | D7: 674 | E7: 723 | F7: =SUM(D7:E7) -> 1397 | G7: 12 | H7: 8 | I7: 1 | J7: 0 | K7: 0 | L7: 1 | M7: 0 | N7: 2
A8: 北金 | B8: 8 | C8: 444 | D8: 412 | E8: 444 | F8: =SUM(D8:E8) -> 856 | G8: 2 | H8: 2 | I8: 0 | J8: 1 | K8: 0 | L8: 1 | M8: 1 | N8: 0
A9: 東金 | B9: 12 | C9: 562 | D9: 472 | E9: 552 | F9: =SUM(D9:E9) -> 1024 | G9: 7 | H9: 3 | I9: 0 | J9: 1 | K9: 0 | L9: 2 | M9: 1 | N9: 0
A10: 新生 | B10: 28 | C10: 2093 | D10: 1834 | E10: 2139 | F10: =SUM(D10:E10) -> 3973 | G10: 13 | H10: 14 | I10: 1 | J10: 3 | K10: 3 | L10: 4 | M10: 2 | N10: 1
A11: 後金 | B11: 10 | C11: 294 | D11: 322 | E11: 297 | F11: =SUM(D11:E11) -> 619 | G11: 2 | H11: 0 | I11: 0 | J11: 0 | K11: 0 | L11: 1 | M11: 0 | N11: 0
A12: 長興 | B12: 11 | C12: 814 | D12: 624 | E12: 741 | F12: =SUM(D12:E12) -> 1365 | G12: 4 | H12: 2 | I12: 0 | J12: 5 | K12: 0 | L12: 1 | M12: 1 | N12: 0
A13: 青山 | B13: 13 | C13: 1308 | D13: 991 | E13: 1222 | F13: =SUM(D13:E13) -> 2213 | G13: 14 | H13: 9 | I13: 4 | J13: 2 | K13: 0 | L13: 1 | M13: 1 | N13: 0
A14: 民生 | B14: 9 | C14: 538 | D14: 400 | E14: 526 | F14: =SUM(D14:E14) -> 926 | G14: 3 | H14: 3 | I14: 0 | J14: 0 | K14: 0 | L14: 1 | M14: 1 | N14: 0
A15: 復元 | B15: 10 | C15: 578 | D15: 523 | E15: 599 | F15: =SUM(D15:E15) -> 1122 | G15: 3 | H15: 10 | I15: 1 | J15: 0 | K15: 0 | L15: 2 | M15: 0 | N15: 0
A16: 林投 | B16: 13 | C16: 650 | D16: 639 | E16: 511 | F16: =SUM(D16:E16) -> 1150 | G16: 4 | H16: 5 | I16: 16 | J16: 2 | K16: 0 | L16: 1 | M16: 1 | N16: 0
... A24: 文東 | B24: 16 | C24: 597 | D24: 534 | E24: 621 | F24: =SUM(D24:E24) -> 1155 | G24: 5 | H24: 6 | I24: 0 | J24: 1 | K24: 0 | L24: 1 | M24: 0 | N24: 0
A25: 總計 | B25: =SUM(B5:B24) -> 258 | C25: =SUM(C5:C24) -> 15272 | D25: =SUM(D5:D24) -> 12861 | E25: =SUM(E5:E24) -> 14761 | F25: =SUM(F5:F24) -> 27622 | G25: =SUM(G5:G24) -> 134 | H25: =SUM(H5:H24) -> 104 | I25: =SUM(I5:I24) -> 43 | ... N25: =SUM(N5:N24) -> 5
A26: 全區總戶數： | C26: =C25 -> 15272 | D26: 戶 | E26: 全區總人口數： | G26: =F25 -> 27622 | H26: 人 | K26: 共20里
A27: 本區最大里： | C27: =INDIRECT(H27,TRUE) -> 新生 | D27: 里 | E27: =MAX(C5:C24) -> 2093 | F27: =MAX(F5:F24) -> 3973 | H27: =ADDRESS(MATCH(MAX(F5:F24),F5:F24,0)+4,1) -> $A$10
A28: 本區最小里： | C28: =INDIRECT(H28,TRUE) -> 後金 | D28: 里 | E28: =MIN(C5:C24) -> 294 | F28: =MIN(F5:F24) -> 619 | H28: =ADDRESS(MATCH(MIN(F5:F24),F5:F24,0)+4,1) -> $A$11
A29: 原住民人數： | C29: =SUM(G29:G30) -> 161 | D29: 人 | E29: 平地原住民： | G29: 85 | H29: 人
E30: 山地原住民： | G30: 76 | H30: 人
A31: 出生人數： | C31: =K25 -> 9 | D31: 人 | E31: （生母國籍：大陸港澳地區0人；外國籍1人）
E32: （生父國籍：大陸港澳地區0人；外國籍0人）
A33: 死亡人數： | C33: =L25 -> 25 | D33: 人
A34: 結婚對數： | C34: =M25 -> 14 | D34: 對 | E34: （配偶國籍：大陸港澳地區1人；外國籍4人）
A35: 離婚/終止結婚對數： | C35: =N25 -> 5 | D35: 對 | E35: （配偶國籍：大陸港澳地區1人；外國籍1人）
A36: 本月遷入本區人數： | C36: =G25 -> 134 | D36: 人 | E36: 遷出本區人數： | G36: =H25 -> 104 | H36: 人
A37: =IF(C37>0," 本月戶數增加","本月戶數減少") -> 本月戶數減少 | C37: =C25-'11409'!C25 -> -2 | D37: =IF(E37>0,"男增加","男減少") -> 男減少 | E37: =D25-'11409'!D25 -> -8 | F37: =IF(G37>0,"女增加","女減少") -> 女增加 | G37: =E25-'11409'!E25 -> 22 | I37: =IF(K37>0,"總人口數增加","總人口數減少") -> 總人口數增加 | K37: =F25-'11409'!F25 -> 14

Sheet 11411
A1: 高雄市前金區各里人口異動概況
K2: 民國114年11月份
A3: 里別 | B3: 鄰數 | C3: 戶數 | D3: 人 | E3: 口 | F3: 數 | G3: 遷入數 | H3: 遷出數 | I3: 住變入 | J3: 住變出 | K3: 出生數 | L3: 死亡數 | M3: 結婚對數(含相同性別) | N3: 離婚/ 終止結婚 對數
D4: 男 | E4: 女 | F4: 合 計
A5: 三川 | B5: 9 | C5: 605 | D5: 488 | E5: 539 | F5: =SUM(D5:E5) -> 1027 | G5: 8 | H5: 5 | I5: 1 | J5: 1 | K5: 1 | L5: 1 | M5: 1 | N5: 0
A6: 草江 | B6: 9 | C6: 919 | D6: 719 | E6: 859 | F6: =SUM(D6:E6) -> 1578 | G6: 10 | H6: 3 | I6: 0 | J6: 0 | K6: 1 | L6: 2 | M6: 1 | N6: 0
A7: 長城 | B7: 17 | C7: 724 | D7: 673 | E7: 723 | F7: =SUM(D7:E7) -> 1396 | G7: 4 | H7: 7 | I7: 1 | J7: 1 | K7: 2 | L7: 0 | M7: 0 | N7: 0
A8: 北金 | B8: 8 | C8: 446 | D8: 410 | E8: 445 | F8: =SUM(D8:E8) -> 855 | G8: 3 | H8: 4 | I8: 0 | J8: 0 | K8: 0 | L8: 0 | M8: 0 | N8: 0
A9: 東金 | B9: 12 | C9: 566 | D9: 473 | E9: 554 | F9: =SUM(D9:E9) -> 1027 | G9: 6 | H9: 5 | I9: 2 | J9: 0 | K9: 1 | L9: 1 | M9: 1 | N9: 0
A10: 新生 | B10: 28 | C10: 2089 | D10: 1838 | E10: 2137 | F10: =SUM(D10:E10) -> 3975 | G10: 15 | H10: 13 | I10: 3 | J10: 2 | K10: 2 | L10: 3 | M10: 0 | N10: 1
A11: 後金 | B11: 10 | C11: 292 | D11: 318 | E11: 294 | F11: =SUM(D11:E11) -> 612 | G11: 3 | H11: 6 | I11: 0 | J11: 0 | K11: 0 | L11: 4 | M11: 1 | N11: 0
A12: 長興 | B12: 11 | C12: 815 | D12: 627 | E12: 745 | F12: =SUM(D12:E12) -> 1372 | G12: 11 | H12: 1 | I12: 0 | J12: 1 | K12: 0 | L12: 2 | M12: 2 | N12: 1
A13: 青山 | B13: 13 | C13: 1309 | D13: 991 | E13: 1226 | F13: =SUM(D13:E13) -> 2217 | G13: 11 | H13: 8 | I13: 3 | J13: 2 | K13: 0 | L13: 0 | M13: 1 | N13: 1
A14: 民生 | B14: 9 | C14: 539 | D14: 400 | E14: 526 | F14: =SUM(D14:E14) -> 926 | G14: 5 | H14: 2 | I14: 0 | J14: 2 | K14: 1 | L14: 2 | M14: 2 | N14: 0
A15: 復元 | B15: 10 | C15: 578 | D15: 524 | E15: 601 | F15: =SUM(D15:E15) -> 1125 | G15: 3 | H15: 1 | I15: 0 | J15: 0 | K15: 1 | L15: 0 | M15: 1 | N15: 0
A16: 林投 | B16: 13 | C16: 649 | D16: 636 | E16: 512 | F16: =SUM(D16:E16) -> 1148 | G16: 2 | H16: 1 | I16: 0 | J16: 0 | K16: 1 | L16: 3 | M16: 0 | N16: 0
... A24: 文東 | B24: 16 | C24: 599 | D24: 533 | E24: 626 | F24: =SUM(D24:E24) -> 1159 | G24: 9 | H24: 1 | I24: 0 | J24: 2 | K24: 0 | L24: 2 | M24: 1 | N24: 0
A25: 總計 | B25: =SUM(B5:B24) -> 258 | C25: =SUM(C5:C24) -> 15286 | D25: =SUM(D5:D24) -> 12871 | E25: =SUM(E5:E24) -> 14784 | F25: =SUM(F5:F24) -> 27655 | G25: =SUM(G5:G24) -> 145 | H25: =SUM(H5:H24) -> 96 | I25: 16 | J25: =SUM(J5:J24) -> 16 | K25: =SUM(K5:K24) -> 11 | L25: =SUM(L5:L24) -> 27 | M25: =SUM(M5:M24) -> 12 | N25: =SUM(N5:N24) -> 5
A26: 全區總戶數： | C26: =C25 -> 15286 | D26: 戶 | E26: 全區總人口數： | G26: =F25 -> 27655 | H26: 人 | K26: 共20里
A27: 本區最大里： | C27: =INDIRECT(H27,TRUE) -> 新生 | D27: 里 | E27: =MAX(C5:C24) -> 2089 | F27: =MAX(F5:F24) -> 3975 | H27: =ADDRESS(MATCH(MAX(F5:F24),F5:F24,0)+4,1) -> $A$10
A28: 本區最小里： | C28: =INDIRECT(H28,TRUE) -> 後金 | D28: 里 | E28: =MIN(C5:C24) -> 292 | F28: =MIN(F5:F24) -> 612 | H28: =ADDRESS(MATCH(MIN(F5:F24),F5:F24,0)+4,1) -> $A$11
A29: 原住民人數： | C29: =SUM(G29,G30) -> 166 | D29: 人 | E29: 平地原住民： | G29: 88 | H29: 人
E30: 山地原住民： | G30: 78 | H30: 人
A31: 出生人數： | C31: =K25 -> 11 | D31: 人 | E31: （生母國籍：大陸港澳地區0人；外國籍1人）
E32: （生父國籍：大陸港澳地區0人；外國籍0人）
A33: 死亡人數： | C33: =L25 -> 27 | D33: 人
A34: 結婚對數： | C34: =M25 -> 12 | D34: 對 | E34: （配偶國籍：大陸港澳地區1人；外國籍2人）
A35: 離婚/終止結婚對數： | C35: =N25 -> 5 | D35: 對 | E35: （配偶國籍：大陸港澳地區0人；外國籍0人）
A36: 本月遷入本區人數： | C36: =G25 -> 145 | D36: 人 | E36: 遷出本區人數： | G36: =H25 -> 96 | H36: 人
A37: =IF(C37>0," 本月戶數增加","本月戶數減少") -> 本月戶數增加 | C37: =C25-'11410'!C25 -> 14 | D37: =IF(E37>0,"男增加","男減少") -> 男增加 | E37: =D25-'11410'!D25 -> 10 | F37: =IF(G37>0,"女增加","女減少") -> 女增加 | G37: =E25-'11410'!E25 -> 23 | I37: =IF(K37>0,"總人口數增加","總人口數減少") -> 總人口數增加 | K37: =F25-'11410'!F25 -> 33

Sheet 11412
A1: 高雄市前金區各里人口異動概況
K2: 民國114年12月份
A3: 里別 | B3: 鄰數 | C3: 戶數 | D3: 人 | E3: 口 | F3: 數 | G3: 遷入數 | H3: 遷出數 | I3: 住變入 | J3: 住變出 | K3: 出生數 | L3: 死亡數 | M3: 結婚對數(含相同性別) | N3: 離婚/ 終止結婚 對數
D4: 男 | E4: 女 | F4: 合 計
A5: 三川 | B5: 9 | C5: 605 | D5: 491 | E5: 539 | F5: =SUM(D5:E5) -> 1030 | G5: 6 | H5: 5 | I5: 2 | J5: 0 | K5: 0 | L5: 0 | M5: 1 | N5: 1
A6: 草江 | B6: 9 | C6: 923 | D6: 715 | E6: 865 | F6: =SUM(D6:E6) -> 1580 | G6: 10 | H6: 5 | I6: 1 | J6: 3 | K6: 1 | L6: 2 | M6: 0 | N6: 1
A7: 長城 | B7: 17 | C7: 723 | D7: 672 | E7: 721 | F7: =SUM(D7:E7) -> 1393 | G7: 8 | H7: 8 | I7: 0 | J7: 2 | K7: 0 | L7: 1 | M7: 2 | N7: 0
A8: 北金 | B8: 8 | C8: 444 | D8: 407 | E8: 449 | F8: =SUM(D8:E8) -> 856 | G8: 8 | H8: 6 | I8: 1 | J8: 1 | K8: 1 | L8: 2 | M8: 0 | N8: 0
A9: 東金 | B9: 12 | C9: 563 | D9: 470 | E9: 550 | F9: =SUM(D9:E9) -> 1020 | G9: 4 | H9: 10 | I9: 2 | J9: 2 | K9: 0 | L9: 1 | M9: 0 | N9: 1
A10: 新生 | B10: 28 | C10: 2085 | D10: 1832 | E10: 2136 | F10: =SUM(D10:E10) -> 3968 | G10: 10 | H10: 9 | I10: 3 | J10: 4 | K10: 0 | L10: 7 | M10: 3 | N10: 1
A11: 後金 | B11: 10 | C11: 294 | D11: 321 | E11: 294 | F11: =SUM(D11:E11) -> 615 | G11: 4 | H11: 2 | I11: 1 | J11: 0 | K11: 1 | L11: 1 | M11: 0 | N11: 0
A12: 長興 | B12: 11 | C12: 816 | D12: 628 | E12: 744 | F12: =SUM(D12:E12) -> 1372 | G12: 11 | H12: 11 | I12: 1 | J12: 1 | K12: 0 | L12: 0 | M12: 0 | N12: 0
A13: 青山 | B13: 13 | C13: 1313 | D13: 994 | E13: 1229 | F13: =SUM(D13:E13) -> 2223 | G13: 10 | H13: 5 | I13: 1 | J13: 1 | K13: 2 | L13: 1 | M13: 1 | N13: 1
A14: 民生 | B14: 9 | C14: 540 | D14: 400 | E14: 527 | F14: =SUM(D14:E14) -> 927 | G14: 1 | H14: 0 | I14: 0 | J14: 0 | K14: 0 | L14: 0 | M14: 0 | N14: 1
A15: 復元 | B15: 10 | C15: 582 | D15: 523 | E15: 601 | F15: =SUM(D15:E15) -> 1124 | G15: 7 | H15: 6 | I15: 0 | J15: 0 | K15: 0 | L15: 2 | M15: 0 | N15: 0
A16: 林投 | B16: 13 | C16: 645 | D16: 631 | E16: 513 | F16: =SUM(D16:E16) -> 1144 | G16: 6 | H16: 8 | I16: 2 | J16: 1 | K16: 0 | L16: 3 | M16: 0 | N16: 1
... A24: 文東 | B24: 16 | C24: 597 | D24: 534 | E24: 626 | F24: =SUM(D24:E24) -> 1160 | G24: 5 | H24: 2 | I24: 0 | J24: 1 | K24: 1 | L24: 2 | M24: 0 | N24: 0
A25: 總計 | B25: =SUM(B5:B24) -> 258 | C25: =SUM(C5:C24) -> 15292 | D25: 12861 | E25: 14809 | F25: =SUM(F5:F24) -> 27670 | G25: =SUM(G5:G24) -> 151 | H25: 114 | I25: 22 | J25: 22 | K25: =SUM(K5:K24) -> 7 | L25: =SUM(L5:L24) -> 29 | M25: =SUM(M5:M24) -> 9 | N25: =SUM(N5:N24) -> 8
A26: 全區總戶數： | C26: =C25 -> 15292 | D26: 戶 | E26: 全區總人口數： | G26: =F25 -> 27670 | H26: 人 | K26: 共20里
A27: 本區最大里： | C27: =INDIRECT(H27,TRUE) -> 新生 | D27: 里 | E27: =MAX(C5:C24) -> 2085 | F27: =MAX(F5:F24) -> 3968 | H27: =ADDRESS(MATCH(MAX(F5:F24),F5:F24,0)+4,1) -> $A$10
A28: 本區最小里： | C28: =INDIRECT(H28,TRUE) -> 後金 | D28: 里 | E28: =MIN(C5:C24) -> 294 | F28: =MIN(F5:F24) -> 615 | H28: =ADDRESS(MATCH(MIN(F5:F24),F5:F24,0)+4,1) -> $A$11
A29: 原住民人數： | C29: =SUM(G29,G30) -> 168 | D29: 人 | E29: 平地原住民： | G29: 87 | H29: 人
E30: 山地原住民： | G30: 81 | H30: 人
A31: 出生人數： | C31: =K25 -> 7 | D31: 人 | E31: （生母國籍：大陸港澳地區1人；外國籍1人）
E32: （生父國籍：大陸港澳地區0人；外國籍0人）
A33: 死亡人數： | C33: =L25 -> 29 | D33: 人
A34: 結婚對數： | C34: =M25 -> 9 | D34: 對 | E34: （配偶國籍：大陸港澳地區0人；外國籍0人）
A35: 離婚/終止結婚對數： | C35: =N25 -> 8 | D35: 對 | E35: （配偶國籍：大陸港澳地區0人；外國籍0人）
A36: 本月遷入本區人數： | C36: =G25 -> 151 | D36: 人 | E36: 遷出本區人數： | G36: =H25 -> 114 | H36: 人
A37: =IF(C37>0," 本月戶數增加","本月戶數減少") -> 本月戶數增加 | C37: =C25-'11411'!C25 -> 6 | D37: =IF(E37>0,"男增加","男減少") -> 男減少 | E37: =D25-'11411'!D25 -> -10 | F37: =IF(G37>0,"女增加","女減少") -> 女增加 | G37: =E25-'11411'!E25 -> 25 | I37: =IF(K37>0,"總人口數增加","總人口數減少") -> 總人口數增加 | K37: =F25-'11411'!F25 -> 15
