Workbook

Sheet 1月
A1: =修改年度!$A1 -> 高雄市左營區115年度月里別人口概況統計表
A2: 區域別 | B2: 鄰 數 | C2: 戶 數 | D2: 人口數(合 計) | E2: 人口數(男) | F2: 人口數(女)
A3: 合 計 | B3: =SUM(B4:B42) -> 706 | C3: =SUM(C4:C42) -> 89247 | D3: =SUM(D4:D42) -> 197631 | E3: =SUM(E4:E42) -> 93351 | F3: =SUM(F4:F42) -> 104280
A4: 進學里 | B4: 14 | C4: 1832 | D4: =E4+F4 -> 2705 | E4: 1567 | F4: 1138
A5: 尾西里 | B5: 11 | C5: 466 | D5: =E5+F5 -> 982 | E5: 480 | F5: 502
A6: 頂北里 | B6: 6 | C6: 255 | D6: =E6+F6 -> 504 | E6: 259 | F6: 245
A7: 中北里 | B7: 7 | C7: 258 | D7: =E7+F7 -> 553 | E7: 280 | F7: 273
A8: 中南里 | B8: 7 | C8: 237 | D8: =E8+F8 -> 464 | E8: 256 | F8: 208
A9: 廟東里 | B9: 8 | C9: 359 | D9: =E9+F9 -> 788 | E9: 412 | F9: 376
A10: 廟北里 | B10: 10 | C10: 399 | D10: =E10+F10 -> 801 | E10: 406 | F10: 395
A11: 尾南里 | B11: 13 | C11: 342 | D11: =E11+F11 -> 685 | E11: 335 | F11: 350
A12: 尾北里 | B12: 30 | C12: 1721 | D12: =E12+F12 -> 3490 | E12: 1725 | F12: 1765
A13: 屏山里 | B13: 18 | C13: 828 | D13: =E13+F13 -> 1556 | E13: 702 | F13: 854
A14: 祥和里 | B14: 3 | C14: 175 | D14: =E14+F14 -> 347 | E14: 163 | F14: 184
A15: 永清里 | B15: 7 | C15: 602 | D15: =E15+F15 -> 1811 | E15: 892 | F15: 919
... A42: 福山里 | B42: 80 | C42: 19200 | D42: =E42+F42 -> 45261 | E42: 21102 | F42: 24159

Sheet 2月
A1: =修改年度!$A1 -> 高雄市左營區115年度月里別人口概況統計表
A2: 區域別 | B2: 鄰 數 | C2: 戶 數 | D2: 人口數(合 計) | E2: 人口數(男) | F2: 人口數(女)
A3: 合 計 | B3: =SUM(B4:B42) -> 706 | C3: =SUM(C4:C42) -> 89350 | D3: =SUM(D4:D42) -> 197644 | E3: =SUM(E4:E42) -> 93363 | F3: =SUM(F4:F42) -> 104281
A4: 進學里 | B4: 14 | C4: 1832 | D4: =E4+F4 -> 2697 | E4: 1561 | F4: 1136
A5: 尾西里 | B5: 11 | C5: 467 | D5: =E5+F5 -> 983 | E5: 481 | F5: 502
A6: 頂北里 | B6: 6 | C6: 256 | D6: =E6+F6 -> 507 | E6: 261 | F6: 246
A7: 中北里 | B7: 7 | C7: 256 | D7: =E7+F7 -> 552 | E7: 279 | F7: 273
A8: 中南里 | B8: 7 | C8: 237 | D8: =E8+F8 -> 466 | E8: 256 | F8: 210
A9: 廟東里 | B9: 8 | C9: 359 | D9: =E9+F9 -> 786 | E9: 411 | F9: 375
A10: 廟北里 | B10: 10 | C10: 400 | D10: =E10+F10 -> 802 | E10: 406 | F10: 396
A11: 尾南里 | B11: 13 | C11: 342 | D11: =E11+F11 -> 682 | E11: 333 | F11: 349
A12: 尾北里 | B12: 30 | C12: 1730 | D12: =E12+F12 -> 3498 | E12: 1726 | F12: 1772
A13: 屏山里 | B13: 18 | C13: 831 | D13: =E13+F13 -> 1558 | E13: 706 | F13: 852
A14: 祥和里 | B14: 3 | C14: 175 | D14: =E14+F14 -> 346 | E14: 163 | F14: 183
A15: 永清里 | B15: 7 | C15: 598 | D15: =E15+F15 -> 1791 | E15: 886 | F15: 905
... A42: 福山里 | B42: 80 | C42: 19228 | D42: =E42+F42 -> 45263 | E42: 21104 | F42: 24159

Sheet 3月
A1: =修改年度!$A1 -> 高雄市左營區115年度月里別人口概況統計表
A2: 區域別 | B2: 鄰 數 | C2: 戶 數 | D2: 人口數(合 計) | E2: 人口數(男) | F2: 人口數(女)
A3: 合 計 | B3: =SUM(B4:B42) -> 706 | C3: =SUM(C4:C42) -> 89679 | D3: =SUM(D4:D42) -> 197730 | E3: =SUM(E4:E42) -> 93414 | F3: =SUM(F4:F42) -> 104316
A4: 進學里 | B4: 14 | C4: 1823 | D4: =E4+F4 -> 2684 | E4: 1551 | F4: 1133
A5: 尾西里 | B5: 11 | C5: 466 | D5: =E5+F5 -> 987 | E5: 484 | F5: 503
A6: 頂北里 | B6: 6 | C6: 255 | D6: =E6+F6 -> 508 | E6: 263 | F6: 245
A7: 中北里 | B7: 7 | C7: 256 | D7: =E7+F7 -> 550 | E7: 278 | F7: 272
A8: 中南里 | B8: 7 | C8: 237 | D8: =E8+F8 -> 465 | E8: 255 | F8: 210
A9: 廟東里 | B9: 8 | C9: 358 | D9: =E9+F9 -> 784 | E9: 411 | F9: 373
A10: 廟北里 | B10: 10 | C10: 400 | D10: =E10+F10 -> 802 | E10: 404 | F10: 398
A11: 尾南里 | B11: 13 | C11: 340 | D11: =E11+F11 -> 681 | E11: 332 | F11: 349
A12: 尾北里 | B12: 30 | C12: 1770 | D12: =E12+F12 -> 3535 | E12: 1742 | F12: 1793
A13: 屏山里 | B13: 18 | C13: 828 | D13: =E13+F13 -> 1543 | E13: 699 | F13: 844
A14: 祥和里 | B14: 3 | C14: 173 | D14: =E14+F14 -> 345 | E14: 160 | F14: 185
A15: 永清里 | B15: 7 | C15: 593 | D15: =E15+F15 -> 1765 | E15: 872 | F15: 893
... A42: 福山里 | B42: 80 | C42: 19368 | D42: =E42+F42 -> 45401 | E42: 21185 | F42: 24216

Sheet 4月
A1: =修改年度!$A1 -> 高雄市左營區115年度月里別人口概況統計表
A2: 區域別 | B2: 鄰 數 | C2: 戶 數 | D2: 人口數(合 計) | E2: 人口數(男) | F2: 人口數(女)
A3: 合 計 | B3: =SUM(B4:B42) -> 706 | C3: =SUM(C4:C42) -> 89731 | D3: =SUM(D4:D42) -> 197691 | E3: =SUM(E4:E42) -> 93417 | F3: =SUM(F4:F42) -> 104274
A4: 進學里 | B4: 14 | C4: 1820 | D4: =E4+F4 -> 2674 | E4: 1546 | F4: 1128
A5: 尾西里 | B5: 11 | C5: 465 | D5: =E5+F5 -> 984 | E5: 483 | F5: 501
A6: 頂北里 | B6: 6 | C6: 255 | D6: =E6+F6 -> 509 | E6: 264 | F6: 245
A7: 中北里 | B7: 7 | C7: 254 | D7: =E7+F7 -> 549 | E7: 278 | F7: 271
A8: 中南里 | B8: 7 | C8: 236 | D8: =E8+F8 -> 463 | E8: 253 | F8: 210
A9: 廟東里 | B9: 8 | C9: 358 | D9: =E9+F9 -> 779 | E9: 409 | F9: 370
A10: 廟北里 | B10: 10 | C10: 400 | D10: =E10+F10 -> 800 | E10: 404 | F10: 396
A11: 尾南里 | B11: 13 | C11: 341 | D11: =E11+F11 -> 682 | E11: 332 | F11: 350
A12: 尾北里 | B12: 30 | C12: 1772 | D12: =E12+F12 -> 3530 | E12: 1742 | F12: 1788
A13: 屏山里 | B13: 18 | C13: 829 | D13: =E13+F13 -> 1546 | E13: 699 | F13: 847
A14: 祥和里 | B14: 3 | C14: 173 | D14: =E14+F14 -> 344 | E14: 160 | F14: 184
A15: 永清里 | B15: 7 | C15: 603 | D15: =E15+F15 -> 1788 | E15: 881 | F15: 907
... A42: 福山里 | B42: 80 | C42: 19399 | D42: =E42+F42 -> 45393 | E42: 21209 | F42: 24184

Sheet 5月
A1: =修改年度!$A1 -> 高雄市左營區115年度月里別人口概況統計表
A2: 區域別 | B2: 鄰 數 | C2: 戶 數 | D2: 人口數(合 計) | E2: 人口數(男) | F2: 人口數(女)
A3: 合 計 | B3: =SUM(B4:B42) -> 706 | C3: =SUM(C4:C42) -> 89794 | D3: =SUM(D4:D42) -> 197626 | E3: =SUM(E4:E42) -> 93370 | F3: =SUM(F4:F42) -> 104256
A4: 進學里 | B4: 14 | C4: 1812 | D4: =E4+F4 -> 2671 | E4: 1545 | F4: 1126
A5: 尾西里 | B5: 11 | C5: 465 | D5: =E5+F5 -> 980 | E5: 483 | F5: 497
A6: 頂北里 | B6: 6 | C6: 255 | D6: =E6+F6 -> 508 | E6: 265 | F6: 243
A7: 中北里 | B7: 7 | C7: 251 | D7: =E7+F7 -> 544 | E7: 276 | F7: 268
A8: 中南里 | B8: 7 | C8: 235 | D8: =E8+F8 -> 460 | E8: 252 | F8: 208
A9: 廟東里 | B9: 8 | C9: 357 | D9: =E9+F9 -> 775 | E9: 406 | F9: 369
A10: 廟北里 | B10: 10 | C10: 399 | D10: =E10+F10 -> 800 | E10: 404 | F10: 396
A11: 尾南里 | B11: 13 | C11: 341 | D11: =E11+F11 -> 681 | E11: 330 | F11: 351
A12: 尾北里 | B12: 30 | C12: 1781 | D12: =E12+F12 -> 3530 | E12: 1743 | F12: 1787
A13: 屏山里 | B13: 18 | C13: 826 | D13: =E13+F13 -> 1543 | E13: 703 | F13: 840
A14: 祥和里 | B14: 3 | C14: 172 | D14: =E14+F14 -> 343 | E14: 159 | F14: 184
A15: 永清里 | B15: 7 | C15: 607 | D15: =E15+F15 -> 1791 | E15: 883 | F15: 908
... A42: 福山里 | B42: 80 | C42: 19440 | D42: =E42+F42 -> 45389 | E42: 21199 | F42: 24190

Sheet 6月
A1: =修改年度!$A1 -> 高雄市左營區115年度月里別人口概況統計表
A2: 區域別 | B2: 鄰 數 | C2: 戶 數 | D2: 人口數(合 計) | E2: 人口數(男) | F2: 人口數(女)
A3: 合 計 | B3: =SUM(B4:B42) -> 706 | C3: =SUM(C4:C42) -> 89811 | D3: =SUM(D4:D42) -> 197528 | E3: =SUM(E4:E42) -> 93285 | F3: =SUM(F4:F42) -> 104243
A4: 進學里 | B4: 14 | C4: 1804 | D4: =E4+F4 -> 2655 | E4: 1536 | F4: 1119
A5: 尾西里 | B5: 11 | C5: 464 | D5: =E5+F5 -> 978 | E5: 483 | F5: 495
A6: 頂北里 | B6: 6 | C6: 252 | D6: =E6+F6 -> 502 | E6: 262 | F6: 240
A7: 中北里 | B7: 7 | C7: 253 | D7: =E7+F7 -> 546 | E7: 278 | F7: 268
A8: 中南里 | B8: 7 | C8: 235 | D8: =E8+F8 -> 461 | E8: 253 | F8: 208
A9: 廟東里 | B9: 8 | C9: 358 | D9: =E9+F9 -> 778 | E9: 409 | F9: 369
A10: 廟北里 | B10: 10 | C10: 399 | D10: =E10+F10 -> 797 | E10: 402 | F10: 395
A11: 尾南里 | B11: 13 | C11: 340 | D11: =E11+F11 -> 676 | E11: 326 | F11: 350
A12: 尾北里 | B12: 30 | C12: 1780 | D12: =E12+F12 -> 3531 | E12: 1741 | F12: 1790
A13: 屏山里 | B13: 18 | C13: 826 | D13: =E13+F13 -> 1540 | E13: 702 | F13: 838
A14: 祥和里 | B14: 3 | C14: 173 | D14: =E14+F14 -> 344 | E14: 159 | F14: 185
A15: 永清里 | B15: 7 | C15: 605 | D15: =E15+F15 -> 1802 | E15: 887 | F15: 915
... A42: 福山里 | B42: 80 | C42: 19447 | D42: =E42+F42 -> 45311 | E42: 21144 | F42: 24167

Sheet 7月
A1: =修改年度!$A1 -> 高雄市左營區115年度月里別人口概況統計表
A2: 區域別 | B2: 鄰 數 | C2: 戶 數 | D2: 人口數(合 計) | E2: 人口數(男) | F2: 人口數(女)
A3: 合 計 | B3: =SUM(B4:B44) -> 707 | C3: =SUM(C4:C44) -> 89868 | D3: =SUM(D4:D44) -> 197464 | E3: =SUM(E4:E44) -> 93258 | F3: =SUM(F4:F44) -> 104206
A4: 進學里 | B4: 14 | C4: 1810 | D4: =E4+F4 -> 2660 | E4: 1535 | F4: 1125
A5: 尾西里 | B5: 11 | C5: 467 | D5: =E5+F5 -> 980 | E5: 485 | F5: 495
A6: 頂北里 | B6: 6 | C6: 251 | D6: =E6+F6 -> 500 | E6: 261 | F6: 239
A7: 中北里 | B7: 14 | C7: 488 | D7: =E7+F7 -> 1003 | E7: 528 | F7: 475
A8: 廟東里 | B8: 8 | C8: 358 | D8: =E8+F8 -> 774 | E8: 407 | F8: 367
A9: 廟北里 | B9: 10 | C9: 398 | D9: =E9+F9 -> 796 | E9: 403 | F9: 393
A10: 尾南里 | B10: 12 | C10: 338 | D10: =E10+F10 -> 667 | E10: 321 | F10: 346
A11: 尾北里 | B11: 30 | C11: 1784 | D11: =E11+F11 -> 3547 | E11: 1753 | F11: 1794
A12: 屏山里 | B12: 21 | C12: 1000 | D12: =E12+F12 -> 1884 | E12: 864 | F12: 1020
A13: 永清里 | B13: 7 | C13: 603 | D13: =E13+F13 -> 1809 | E13: 888 | F13: 921
A14: 莒光里 | B14: 21 | C14: 777 | D14: =E14+F14 -> 1756 | E14: 847 | F14: 909
A15: 光輝里 | B15: 26 | C15: 1209 | D15: =E15+F15 -> 2597 | E15: 1250 | F15: 1347
... A44: 崇聖里 | B44: 11 | C44: 369 | D44: =E44+F44 -> 790 | E44: 412 | F44: 378

Sheet 8月
A1: =修改年度!$A1 -> 高雄市左營區115年度月里別人口概況統計表
A2: 區域別 | B2: 鄰 數 | C2: 戶 數 | D2: 人口數(合 計) | E2: 人口數(男) | F2: 人口數(女)
A3: 合 計 | B3: =SUM(B4:B44) -> 707 | C3: =SUM(C4:C44) -> 89912 | D3: =SUM(D4:D44) -> 197352 | E3: =SUM(E4:E44) -> 93202 | F3: =SUM(F4:F44) -> 104150
A4: 進學里 | B4: 14 | C4: 1809 | D4: =E4+F4 -> 2661 | E4: 1537 | F4: 1124
A5: 尾西里 | B5: 11 | C5: 466 | D5: =E5+F5 -> 969 | E5: 482 | F5: 487
A6: 頂北里 | B6: 6 | C6: 251 | D6: =E6+F6 -> 500 | E6: 261 | F6: 239
A7: 中北里 | B7: 14 | C7: 488 | D7: =E7+F7 -> 1001 | E7: 528 | F7: 473
A8: 廟東里 | B8: 8 | C8: 357 | D8: =E8+F8 -> 774 | E8: 405 | F8: 369
A9: 廟北里 | B9: 10 | C9: 396 | D9: =E9+F9 -> 791 | E9: 400 | F9: 391
A10: 尾南里 | B10: 12 | C10: 337 | D10: =E10+F10 -> 666 | E10: 319 | F10: 347
A11: 尾北里 | B11: 30 | C11: 1796 | D11: =E11+F11 -> 3555 | E11: 1758 | F11: 1797
A12: 屏山里 | B12: 21 | C12: 998 | D12: =E12+F12 -> 1870 | E12: 856 | F12: 1014
A13: 永清里 | B13: 7 | C13: 608 | D13: =E13+F13 -> 1816 | E13: 890 | F13: 926
A14: 莒光里 | B14: 21 | C14: 776 | D14: =E14+F14 -> 1751 | E14: 847 | F14: 904
A15: 光輝里 | B15: 26 | C15: 1210 | D15: =E15+F15 -> 2598 | E15: 1251 | F15: 1347
... A44: 崇聖里 | B44: 11 | C44: 369 | D44: =E44+F44 -> 787 | E44: 411 | F44: 376

Sheet 9月
A1: =修改年度!$A1 -> 高雄市左營區115年度月里別人口概況統計表
A2: 區域別 | B2: 鄰 數 | C2: 戶 數 | D2: 人口數(合 計) | E2: 人口數(男) | F2: 人口數(女)
A3: 合 計 | B3: =SUM(B4:B44) -> 0 | C3: =SUM(C4:C44) -> 0 | D3: =SUM(D4:D44) -> 0 | E3: =SUM(E4:E44) -> 0 | F3: =SUM(F4:F44) -> 0
A4: 進學里 | D4: =E4+F4 -> 0
A5: 尾西里 | D5: =E5+F5 -> 0
A6: 頂北里 | D6: =E6+F6 -> 0
A7: 中北里 | D7: =E7+F7 -> 0
A8: 廟東里 | D8: =E8+F8 -> 0
A9: 廟北里 | D9: =E9+F9 -> 0
A10: 尾南里 | D10: =E10+F10 -> 0
A11: 尾北里 | D11: =E11+F11 -> 0
A12: 屏山里 | D12: =E12+F12 -> 0
A13: 永清里 | D13: =E13+F13 -> 0
A14: 莒光里 | D14: =E14+F14 -> 0
A15: 光輝里 | D15: =E15+F15 -> 0
... A44: 崇聖里 | D44: =E44+F44 -> 0

Sheet 10月
A1: =修改年度!$A1 -> 高雄市左營區115年度月里別人口概況統計表
A2: 區域別 | B2: 鄰 數 | C2: 戶 數 | D2: 人口數(合 計) | E2: 人口數(男) | F2: 人口數(女)
A3: 合 計 | B3: =SUM(B4:B44) -> 0 | C3: =SUM(C4:C44) -> 0 | D3: =SUM(D4:D44) -> 0 | E3: =SUM(E4:E44) -> 0 | F3: =SUM(F4:F44) -> 0
A4: 進學里 | D4: =E4+F4 -> 0
A5: 尾西里 | D5: =E5+F5 -> 0
A6: 頂北里 | D6: =E6+F6 -> 0
A7: 中北里 | D7: =E7+F7 -> 0
A8: 廟東里 | D8: =E8+F8 -> 0
A9: 廟北里 | D9: =E9+F9 -> 0
A10: 尾南里 | D10: =E10+F10 -> 0
A11: 尾北里 | D11: =E11+F11 -> 0
A12: 屏山里 | D12: =E12+F12 -> 0
A13: 永清里 | D13: =E13+F13 -> 0
A14: 莒光里 | D14: =E14+F14 -> 0
A15: 光輝里 | D15: =E15+F15 -> 0
... A44: 崇聖里 | D44: =E44+F44 -> 0

Sheet 11月
A1: =修改年度!$A1 -> 高雄市左營區115年度月里別人口概況統計表
A2: 區域別 | B2: 鄰 數 | C2: 戶 數 | D2: 人口數(合 計) | E2: 人口數(男) | F2: 人口數(女)
A3: 合 計 | B3: =SUM(B4:B44) -> 0 | C3: =SUM(C4:C44) -> 0 | D3: =SUM(D4:D44) -> 0 | E3: =SUM(E4:E44) -> 0 | F3: =SUM(F4:F44) -> 0
A4: 進學里 | D4: =E4+F4 -> 0
A5: 尾西里 | D5: =E5+F5 -> 0
A6: 頂北里 | D6: =E6+F6 -> 0
A7: 中北里 | D7: =E7+F7 -> 0
A8: 廟東里 | D8: =E8+F8 -> 0
A9: 廟北里 | D9: =E9+F9 -> 0
A10: 尾南里 | D10: =E10+F10 -> 0
A11: 尾北里 | D11: =E11+F11 -> 0
A12: 屏山里 | D12: =E12+F12 -> 0
A13: 永清里 | D13: =E13+F13 -> 0
A14: 莒光里 | D14: =E14+F14 -> 0
A15: 光輝里 | D15: =E15+F15 -> 0
... A44: 崇聖里 | D44: =E44+F44 -> 0

Sheet 12月
A1: =修改年度!$A1 -> 高雄市左營區115年度月里別人口概況統計表
A2: 區域別 | B2: 鄰 數 | C2: 戶 數 | D2: 人口數(合 計) | E2: 人口數(男) | F2: 人口數(女)
A3: 合 計 | B3: =SUM(B4:B44) -> 0 | C3: =SUM(C4:C44) -> 0 | D3: =SUM(D4:D44) -> 0 | E3: =SUM(E4:E44) -> 0 | F3: =SUM(F4:F44) -> 0
A4: 進學里 | D4: =E4+F4 -> 0
A5: 尾西里 | D5: =E5+F5 -> 0
A6: 頂北里 | D6: =E6+F6 -> 0
A7: 中北里 | D7: =E7+F7 -> 0
A8: 廟東里 | D8: =E8+F8 -> 0
A9: 廟北里 | D9: =E9+F9 -> 0
A10: 尾南里 | D10: =E10+F10 -> 0
A11: 尾北里 | D11: =E11+F11 -> 0
A12: 屏山里 | D12: =E12+F12 -> 0
A13: 永清里 | D13: =E13+F13 -> 0
A14: 莒光里 | D14: =E14+F14 -> 0
A15: 光輝里 | D15: =E15+F15 -> 0
... A44: 崇聖里 | D44: =E44+F44 -> 0

Sheet 修改年度
A1: 高雄市左營區115年度月里別人口概況統計表
